BEGIN:VCALENDAR
VERSION:2.0
PRODID:-//tapahtumainfo.fi//NONSGML Ville Leinonen & Futureiman//EN
METHOD:REQUEST
BEGIN:VEVENT
UID:20260422T191045-1208840073-tapahtumainfo.fi
DTSTAMP:20260422T191045
DTSTART:20260606T020000Z
DTEND:20260606T020000Z
LOCATION:Dubrovnik
SUMMARY:Ville Leinonen & Futureiman
DESCRIPTION:<html><head></head><body><h2>LEGENDAARINEN VILLE LEINONEN & FUTUREIMAN-LIVEYHTYE DUBROVNIKIIN!</h2><br /><p><strong>VILLE LEINONEN</strong> (s. 1975, Savonlinna) perusti FUTUREIMAN-liveyhtyeen 2017, kun Raul Reiman -coverlevy <em>Hei taas!</em> ilmestyi. Sitä edelsi vuonna 2007 julkaistu <em>Hei!</em>, joka sisältää niin ikään tuttuja Reiman-klassikoita, kuten <em>Rakasta mua juuri näin</em> ja <em>Pieni ja lämpöinen</em>.</p><br /><p>Trioon kuuluu laulava Leinonen tanssikengissä, <strong>Janne Lastumäki</strong> syntikoissa ja ohjelmoinnissa sekä <strong>Tuomas Eriksson</strong> sähkökitarassa.</p><br /><p>Futureiman-liveshow on kunnianosoitus 80-luvun diskoiskelmälle. Ville Leinonen on pitkän linjan esiintyjä ja lauluntekijä, jonka avantgarde-taide on laajalti tunnettua. Diskoiskelmä ja ylipäätään suomalainen iskelmä on pysynyt Villen sydäntä lähellä jo lapsuusvuosista saakka. Tule tanssimaan <em>Anna rakas raju hetki</em>, <em>Ota kii</em>, <em>Tahdon sinut</em>, <em>Nasta pimu</em>, <em>Tyydytys</em>, <em>Vastaa jo please</em> ja muut diskohitit.<br></p><br /><br /><p>Numeroimattomat paikat. Seisova katsomo.</p><br /><p>Eteismaksu 4 € / hlö.</p><br /><p><strong>Esteettömyys:</strong></p><br /><p><span dir="ltr">Avustaja pääsee tapahtumaan ilmaiseksi avustettavan kanssa&nbsp;</span><span dir="ltr">samalla lipulla:&nbsp;<strong>kyllä</strong></span><br><span dir="ltr">Tapahtumaan on esteetön pääsy pyörätuolilla:&nbsp;<strong>kyllä</strong></span><br><span dir="ltr">Tapahtumapaikalla on esteetön WC:&nbsp;<strong>kyllä</strong></span><br><span dir="ltr">Tapahtumapaikalla on mahdollisuus induktiosilmukan käyttöön:&nbsp;<strong>ei</strong></span><br><span dir="ltr">Tapahtumassa on pyörätuolikoroke:&nbsp;<strong>kyllä</strong></span><br><span dir="ltr">Pyörätuolia käyttävää tai erityistä avustusta tarvitsevaa&nbsp;</span><span dir="ltr">asiakasta pyydetään olemaan etukäteen yhteydessä sujuvan&nbsp;</span><span dir="ltr">sisäänpääsyn varmistamiseksi:&nbsp;<a href="mailto:vilma@altagency.fi" data-outlook-id="9f06c0b5-1ef0-4b6b-8e8f-bf886efbaac6">vilma@altagency.fi</a></span></p> <br /><br />  Visit event in our website: <a href='https://tapahtumainfo.fi/tapahtuma/2026/06/ville-leinonen-futureiman/441887'>Tapahtumainfo.fi</a></body></html>
END:VEVENT
END:VCALENDAR
