BEGIN:VCALENDAR
VERSION:2.0
PRODID:-//tapahtumainfo.fi//NONSGML Kuulkaas Enot!//EN
METHOD:REQUEST
BEGIN:VEVENT
UID:20260422T144349-1488554205-tapahtumainfo.fi
DTSTAMP:20260422T144349
DTSTART:20260609T020000Z
DTEND:20260609T020000Z
LOCATION:Tervasaari, Helsingin kesäteatteri
SUMMARY:Kuulkaas Enot!
DESCRIPTION:<html><head></head><body><h2>Helsingin Kesäteatteri: Kuulkaas Enot!</h2><br /><p><strong>PMMP:n musiikkia, salaperäisiä blogikirjoituksia ja nuorten rohkeaa&nbsp;ilmaisua!</strong><br><br>Tulevana kesänä Tervasaaressa kuullaan seuraavan sukupolven ääniä ja&nbsp;tarinoita, kun uusi musiikkinäytelmä, PMMP:n musiikista inspiroitunut&nbsp;Kuulkaas enot!, saa ensi-iltansa.<br><br>Näytelmässä 7B-luokka elää ihan tavallista koulupäivää, kun yhtäkkiä&nbsp;koulun blogiin ilmestyy salaperäinen kirjoittaja nimimerkillä Diiva.&nbsp;Terävät ja paljastavat kirjoitukset osuvat oppilaiden heikkoihin&nbsp;kohtiin, ja pian jokainen alkaa epäillä toisiaan. Kuka Diiva on ja miksi&nbsp;hän kirjoittaa?<br><br>Kuulkaas enot! on syntynyt osittain nuorten omista ideoista, teksteistä&nbsp;ja improvisaatioista. Esityksen kohtauksia on rakennettu&nbsp;Musiikkiteatteri X -ryhmässä kanssa, jossa lasten ja nuorten omat&nbsp;kokemukset, havainnot ja mielikuvitus ovat päässeet muovaamaan tarinaa.&nbsp;Lopputuloksena on rehellinen, rohkea ja yllätyksellinen&nbsp;musiikkinäytelmä, jossa lasten ja nuorten oma ääni kuuluu vahvasti juuri&nbsp;sellaisena kuin se on.<br><br>Tämän kesän esityksen kummeina toimivat tietysti PMMP:stä tutut Paula&nbsp;Vesala ja Mira Luoti! Artistit, joiden kappaleet ovat antaneet äänen&nbsp;kokonaiselle sukupolvelle. Esityksessä kuullaan kappaleita sekä PMMP:ltä&nbsp;että soolomateriaalia Paula Vesalalta ja Mira Luodilta.&nbsp;PMMP:n ikonisten laulujen siivittämänä syntyy energinen, koskettava ja&nbsp;paikoin hulvattoman terävä musiikkinäytelmä, jossa nuorten maailma&nbsp;törmää vanhoihin asenteisiin. Lavalla nähdään ystävyyttä, rohkeutta,&nbsp;kapinaa ja suuria tunteita sekä tietenkin paljon musiikkia.<br><br>The boys mean business!</p><br /><p><u>Esitykset:</u><br>Ensi-ilta 9.6.2026 klo 17<br>10.6.2026 klo 17<br>11.6.2026 klo 17<br>12.6.2026 klo 13 ja 17<br>13.6.2026 klo 13 ja 17<br>15.6.2026 klo 17<br>16.6.2026 klo 17<br>17.6.2026 klo 17</p><br /><p>Sydämellisesti tervetuloa kokemaan kesän voimakkain nuorten&nbsp;musiikkinäytelmä koko perheen voimin!</p><br /><br /><p>Suositusikäraja: 10-vuotta<br>Esityksen kesto: tarkentuu lähempänä ensi-iltaa<br>Ilmainen sisäänpääsy kaikille taiteen perusopetuksen opettajille ja&nbsp;opiskelijoille!</p><br /><p><strong>Saapuminen kesäteatterille:</strong><br>HSL-bussi nro 16 Rautatientori-Korkeasaari, lähin pysäkki on&nbsp;Liisanpuistikko<br>Kaupunkipyöräparkki Liisanpuistikossa<br>Kävellen pääset Rautatientorilta n. 20 minuutissa<br>Emme suosittele autolla saapumista, sillä alueella on parkkipaikkoja&nbsp;hyvin rajatusti</p><br /><p>***</p><br /><p>Avustaja pääsee tapahtumaan ilmaiseksi avustettavan kanssa samalla&nbsp;lipulla: <strong>kyllä</strong><br>Tapahtumaan on esteetön pääsy pyörätuolilla: <strong>ei</strong><br>Tapahtumapaikalla on esteetön WC: <strong>kyllä</strong><br>Tapahtumapaikalla on mahdollisuus induktiosilmukan käyttöön: <strong>ei</strong><br>Tapahtumassa on pyörätuolikoroke: <strong>ei</strong><br>Muuta huomioitavaa:&nbsp;<strong>Tapahtumapaikalle on kulku hiekkatien kautta ja kulku voi olla&nbsp;haasteellista pyörätuolilla liikkuvalle. Tilassa on yleisö WC, jossa ei&nbsp;ole koroketta ja ovi aukeaa napista. Kulku WC-tiloihin on myös&nbsp;hiekkatien kautta. Pyörätuolikoroketta ei ole, mutta pyörätuolia&nbsp;käyttäville katsojille on varattu tilaa lavan edestä.</strong></p> <br /><br />  Visit event in our website: <a href='https://tapahtumainfo.fi/tapahtuma/2026/06/kuulkaas-enot/441888'>Tapahtumainfo.fi</a></body></html>
END:VEVENT
END:VCALENDAR
