BEGIN:VCALENDAR
VERSION:2.0
PRODID:-//tapahtumainfo.fi//NONSGML Suomi-Tshekki//EN
METHOD:REQUEST
BEGIN:VEVENT
UID:20260420T112208-620629023-tapahtumainfo.fi
DTSTAMP:20260420T112208
DTSTART:20260612T020000Z
DTEND:20260612T020000Z
LOCATION:Kauppi Sport Center
SUMMARY:Suomi-Tshekki
DESCRIPTION:<html><head></head><body><h2>MATKA KOHTI KOTIKISOJA ALKAA NYT – SUOMI ja TSHEKKI KOHTAAVAT KESÄKUUSSA<br></h2><br /><p style="text-align: justify;"><span dir="ltr">Suomen miesten salibandymaajoukkue virittää huippukuntoaan kohti tulevia kotikisoja&nbsp;</span><span dir="ltr">maaotteluissa, joissa panoksena on muutakin kuin voitto – taistelu pelipaikoista</span><br><span dir="ltr">kotikisajoukkueessa käy kuumana.<br></span><span dir="ltr"></span><br><span dir="ltr">Kesäkuussa Suomi saa kovan vastuksen, kun Tshekki saapuu vieraaksi kahteen kovatasoiseen&nbsp;</span><span dir="ltr">maaotteluun. Nämä pelit ovat tärkeä osa valmistautumista kohti kotikisoja – tule näkemään, missä&nbsp;</span><span dir="ltr">iskussa Suomi on!</span><span dir="ltr"><br></span><br><span dir="ltr">Otteluiden lisäksi tapahtuma tarjoaa elämyksiä koko perheelle: perjantaina Kauppi Sport Centerin&nbsp;</span><span dir="ltr">piha täyttyy MM-kisateemaisesta aktiviteettialueesta pomppulinnoineen, ja lauantaina Eerikkilän&nbsp;</span><span dir="ltr">Urheiluopistolla järjestetään historian ensimmäinen maajoukkueen varustekirppis.</span></p><br /><p style="text-align: justify;"><span dir="ltr">Tapahtumaan on myynnissä päivälippuja sekä molemmat päivät kattava turnauslippu. Otteluihin on&nbsp;</span><span dir="ltr">tarjolla rajallinen määrä lippuja – varmista paikkasi ajoissa!</span><br><span dir="ltr">Suosittelemme ostamaan liput ennakkoon, sillä ovelta ostettuna lipun hintoihin lisätään 5 €&nbsp;</span><span dir="ltr">palvelumaksu. Ovet avataan tuntia ennen ottelun alkua. Oheisohjelman tarkempi aikataulu&nbsp;</span><span dir="ltr">julkaistaan lähempänä tapahtumaa osoitteessa</span><span dir="ltr"> </span><span dir="ltr">www.salibandy.fi</span><span dir="ltr">.<br></span><strong><span dir="ltr"></span><br><span dir="ltr">Otteluohjelma (huom. aikataulumuutokset mahdollisia)</span></strong></p><br /><p><span dir="ltr"><strong><u><span dir="ltr">12.6.2026 Kauppi Sports Center</span></u></strong><br><span dir="ltr">16:00</span><span dir="ltr"> </span><span dir="ltr">Suomi – Tšekki<br></span></span><span dir="ltr"><span dir="ltr"></span><strong><u><br><span dir="ltr">13.6.2026 Eerikkilän Urheiluopisto</span></u></strong><br><span dir="ltr">10:30</span><span dir="ltr"> </span><span dir="ltr">Tšekki – Suomi</span><br></span></p><br /><br /><p><span dir="ltr"><span dir="ltr">Numeroimattomat istumapaikat.</span></span><br><span dir="ltr"><span dir="ltr">Ovet avataan tuntia ennen ottelun alkua.</span></span></p> <br /><br />  Visit event in our website: <a href='https://tapahtumainfo.fi/tapahtuma/2026/06/suomi-tshekki/441889'>Tapahtumainfo.fi</a></body></html>
END:VEVENT
END:VCALENDAR
