BEGIN:VCALENDAR
VERSION:2.0
PRODID:-//tapahtumainfo.fi//NONSGML Rebekka Holi duo + Tams//EN
METHOD:REQUEST
BEGIN:VEVENT
UID:20260422T114543-2125657090-tapahtumainfo.fi
DTSTAMP:20260422T114543
DTSTART:20260612T020000Z
DTEND:20260612T020000Z
LOCATION:Dubrovnik
SUMMARY:Rebekka Holi duo + Tams
DESCRIPTION:<html><head></head><body><h2>REBEKKA HOLI DUO JA TAMS KEIKALLE DUBROVNIKIIN!</h2><br /><p><strong>Rebekka Holi</strong></p><br /><p>Helsinkiläisen laulaja-lauluntekijä Rebekka Holin musiikissa sekoittuu niin herkkä folk, leikkisä tarinankerronta kuin rouhea räimekin, joiden liitto saa aikaan vastustamattoman yhdistelmän. Kappaleiden sanoitukset rakentuvat usein pienistä havainnoista ja ohikiitävistä hetkistä – arjen tarkkanäköisestä runoudesta. Artisti on vakiinnuttanut paikkansa Suomen indiemusiikin kentällä. Eläytyvän ja persoonallisen esiintymisen omaava Holi tunnetaan myös oivaltavista sävellyksistä ja humoristisista sanoituksista.</p><br /><p><strong>Tams</strong><br>Tamsin tarttuvat melodiat, koskettavat lyriikat ja syleilevän karkkinen&nbsp;äänimaisema ovat tehneet hänestä yhden suomisynthpopin kiinnostavimmista&nbsp;nimistä. Kittilästä kotoisin oleva ja Joensuuhun asettunut Tams&nbsp;säveltää, sanoittaa, sovittaa, äänittää ja tuottaa itse julkaisunsa,&nbsp;joiden kautta hänet on valittu mm. Soundin Tarkkailuluokalle, YleX:n&nbsp;Nosteessa-artistiksi sekä Joensuun Popmuusikoiden Hyvä tyypit!&nbsp;-kiertopalkinnon saajaksi.&nbsp;</p><br /><p>Pet Shop Boysiin ja New Orderiin 2020-lukulaisittain kallellaan olevat&nbsp;kappaleet ovat tanssittaneet yleisöä viimeisen vuoden aikana mm.&nbsp;Ilosaarirockissa, Lempi-festivaalilla ja Ihmemaa-festivaalilla.&nbsp;Kesäkuussa Dubrovnikissa Tams esittää aiemmin julkaisujen kappaleiden&nbsp;lisäksi toukokuussa julkaistavan uuden albumin materiaalia.</p><br /><br /><p>Numeroimattomat paikat. Seisova katsomo.</p><br /><p>Eteismaksu 4 € / hlö.</p><br /><p><strong>Esteettömyys:</strong></p><br /><p><span dir="ltr">Avustaja pääsee tapahtumaan ilmaiseksi avustettavan kanssa&nbsp;</span><span dir="ltr">samalla lipulla:&nbsp;<strong>kyllä</strong></span><br><span dir="ltr">Tapahtumaan on esteetön pääsy pyörätuolilla:&nbsp;<strong>kyllä</strong></span><br><span dir="ltr">Tapahtumapaikalla on esteetön WC:&nbsp;<strong>kyllä</strong></span><br><span dir="ltr">Tapahtumapaikalla on mahdollisuus induktiosilmukan käyttöön:&nbsp;<strong>ei</strong></span><br><span dir="ltr">Tapahtumassa on pyörätuolikoroke:&nbsp;<strong>kyllä</strong></span><br><span dir="ltr">Pyörätuolia käyttävää tai erityistä avustusta tarvitsevaa&nbsp;</span><span dir="ltr">asiakasta pyydetään olemaan etukäteen yhteydessä sujuvan&nbsp;</span><span dir="ltr">sisäänpääsyn varmistamiseksi:&nbsp;<a href="mailto:vilma@altagency.fi" data-outlook-id="9f06c0b5-1ef0-4b6b-8e8f-bf886efbaac6">vilma@altagency.fi</a></span></p> <br /><br />  Visit event in our website: <a href='https://tapahtumainfo.fi/tapahtuma/2026/06/rebekka-holi-duo-tams/441890'>Tapahtumainfo.fi</a></body></html>
END:VEVENT
END:VCALENDAR
