BEGIN:VCALENDAR
VERSION:2.0
PRODID:-//tapahtumainfo.fi//NONSGML ASHEN SKY – Levyjulkkarit, Without Warning, Lust For Lily//EN
METHOD:REQUEST
BEGIN:VEVENT
UID:20260424T112324-1829615504-tapahtumainfo.fi
DTSTAMP:20260424T112324
DTSTART:20260612T020000Z
DTEND:20260612T020000Z
LOCATION:Kuudes Linja
SUMMARY:ASHEN SKY – Levyjulkkarit, Without Warning, Lust For Lily
DESCRIPTION:<html><head></head><body><h2>ASHEN SKY – Levyjulkkarit, Without Warning , Lust For Lily&nbsp;</h2><br /><p>Helsinkiläinen ASHEN SKY juhlistaa uutta 15.5. julkaistavaa albumiaan&nbsp;<em>The Broken Era</em>&nbsp;Helsingin Kuudennella Linjalla 12.6.2026. Illassa mukana Without Warning sekä Lust For Lily.</p><br /><p>ASHEN SKY tunnetaan energisistä livekeikoistaan, joilla yhdistyvät raskaat deathcore- ja modern metal -riffit, melodiset kertosäkeet sekä synkkä, tunnelmallinen soundi. Yhtye on jakanut lavoja kansainvälisten yhtyeiden, kuten Dead by Aprilin, Self Deceptionin ja Oceans Ate Alaskan kanssa, sekä esiintynyt mm. Helsinki Techfestillä ja Hellsinki Metal Festivalin ja Tuskan jatkoklubeilla sekä kerännyt yli puoli miljoonaa striimiä kuuntelijoilta ympäri maailmaa.</p><br /><br /><p><strong>Liput ovelta 14 €, mikäli jäljellä.<br></strong></p><br /><p><strong>Nettisivuilta vain suoria ostoja. Puhelinpalvelun kautta lippujen varausaika 2 päivää. </strong><br></p><br /><p><strong>Ovella peritään security fee 3,90 €.</strong><strong></strong><br></p><br /><p><strong>***</strong></p><br /><p><strong>Esteettömyys:<br></strong></p><br /><p>Avustaja pääsee tapahtumaan ilmaiseksi avustettavan kanssa samalla lipulla:<strong> </strong><strong>kyllä</strong><br>Tapahtumaan on esteetön pääsy pyörätuolilla: <strong>kyllä</strong><br>Tapahtumapaikalla on esteetön WC: <strong>kyllä</strong> (lukollinen, ravintolan henkilökunta avustaa oven avauksessa)<strong></strong><br>Pyörätuolia käyttävää tai erityistä avustusta tarvitsevaa asiakasta pyydetään olemaan etukäteen yhteydessä sujuvan sisäänpääsyn varmistamiseksi: <strong>Ravintolapäällikkö Amanda Kiviniemi, amanda@kuudeslinja.com</strong><br>Muuta huomioitavaa:<strong><strong> </strong></strong>Pyörätuolille käynti takaoven  kautta, Hämeentie 13 B.&nbsp;Olettehan ajoissa  yhteydessä ravintolapäällikköön sähköpostitse halutessanne käyttää esteetöntä sisäänkäyntiä.</p> <br /><br />  Visit event in our website: <a href='https://tapahtumainfo.fi/tapahtuma/2026/06/ashen-sky--levyjulkkarit-without-warning-lust-for-lily/441891'>Tapahtumainfo.fi</a></body></html>
END:VEVENT
END:VCALENDAR
