BEGIN:VCALENDAR
VERSION:2.0
PRODID:-//tapahtumainfo.fi//NONSGML Jacke Björklund: Valkeat Yöt -stand up show//EN
METHOD:REQUEST
BEGIN:VEVENT
UID:20260422T172757-2126814549-tapahtumainfo.fi
DTSTAMP:20260422T172757
DTSTART:20260703T020000Z
DTEND:20260703T020000Z
LOCATION:Useita paikkoja
SUMMARY:Jacke Björklund: Valkeat Yöt -stand up show
DESCRIPTION:<html><head></head><body><h3>Jacke Björklund: Valkeat Yöt -stand up show</h3><br /><p>Tervetuloa viettämään stand up -iltaa satiirin kuninkaan ja sarkasmin keisarin Jacke Björklundin kanssa. Luvassa on sekoitus klassikoita vuosien varrelta. Hanki lippusi ajoissa ennakkoon ettet jää ilman!&nbsp;</p><br /><p><strong>Esitykset:</strong></p><br /><p>3.7. Akaa, Toijalan Kesäteatteri<br>10.7. Muurame, Riihivuori Areena<br>11.7. Orimattila, Jätinpesän kesäteatteri<br>16.7. Eura, Sieravuori<br>18.7. Kokkola, Ykspihlajan Työväen Näyttämö<br>14.8. Seinäjoki, Teatteri Hysteria</p><br /><br /><p><strong><strong>Nettisivuilta vain suoria ostoja. Puhelinpalvelun kautta lippujen varausaika 2 päivää.</strong></strong></p><br /><p><strong>Liput ovelta 38 €, mikäli jäljellä.</strong><br></p><br /><p><strong>Kesto 1,5h sis. väliaika</strong></p><br /><p>***</p><br /><p><strong></strong><strong>Esteettömyystiedot:<br></strong>Avustaja pääsee tapahtumaan ilmaiseksi avustettavan kanssa samalla lipulla: <strong>kyllä</strong><br>Tapahtumaan on esteetön pääsy pyörätuolilla: <strong>kyllä</strong><br></p> <br /><br />  Visit event in our website: <a href='https://tapahtumainfo.fi/tapahtuma/2026/07/jacke-bjorklund-valkeat-yot-stand-up-show/441894'>Tapahtumainfo.fi</a></body></html>
END:VEVENT
END:VCALENDAR
