BEGIN:VCALENDAR
VERSION:2.0
PRODID:-//tapahtumainfo.fi//NONSGML Valhalla Metal Fest Reunion//EN
METHOD:REQUEST
BEGIN:VEVENT
UID:20260422T172747-1109135411-tapahtumainfo.fi
DTSTAMP:20260422T172747
DTSTART:20260703T020000Z
DTEND:20260703T020000Z
LOCATION:Sawohouse
SUMMARY:Valhalla Metal Fest Reunion
DESCRIPTION:<html><head></head><body><h3>VALHALLA PALAA – 25 VUOTTA MYÖHEMMIN</h3><br /><p>Oli kerran paikka, jossa Kuopion metallisydän löi kovempaa kuin missään muualla.</p><br /><p><strong>Valhalla Metal Bar</strong> – Suomen ensimmäinen metallille omistettu baari – avasi ovensa vuonna 1997 ja kirjoitti itäsuomalaisen metalliskenen historian uusiksi. Kolmen vuoden ajan se oli enemmän kuin baari: se oli heimon kokoontumispaikka, legendojen lava ja kodin tunne kaikille, jotka tiesivät kuuluvansa sinne. “Valhalla ei ollut paikka. Se oli tunne. Nyt se tunne palaa.</p><br /><p>”Kaksi yötä. Yksi legenda. Rajaton määrä muistoja.</p><br /><p>Sawohousen Underground – kuusi metriä maan alla sykkivä itäisen Suomen suurin live-venue – avaa porttinsa juhlaviikonlopulle, joka on omistettu kaikille, jotka olivat siellä silloin. Ja kaikille, jotka olisivat halunneet olla.</p><br /><p><strong>PERJANTAI 3.7.</strong></p><br /><p><strong></strong><strong>Aikataulut:&nbsp;</strong></p><br /><p><strong></strong>Garden Live: <strong>MAUSOLEUM GATE</strong> showtime klo 18.30-20.30 VAPAA PÄÄSY.<br>Underground: ovet klo 20.00, <strong>BRAINTHRASH</strong> klo 21.00, <strong>OBCASUS</strong> showtime 22.30, <strong>FLAME</strong> klo 24.00</p><br /><p><strong>LAUANTAI 4.7.</strong></p><br /><p><strong></strong><strong>Aikataulut:&nbsp;</strong></p><br /><p><strong></strong>Garden Live: <strong>HOLE IN THE HEAD</strong> klo 18.00, <strong>ANCIENT DRIVE</strong> klo 19.30  VAPAA PÄÄSY<br>Underground: Ovet 20.00, <strong>VERJNUARMU</strong> klo 21.00, <strong>SURVIVORS ZERO</strong> klo 22.30, <strong>DEATHCHAIN</strong> klo 24.00.</p><br /><p><strong>Tapahtuma on omistettu kaikille Valhalla Metal Barin kävijöille, muusikoille ja hulluille – teille, jotka teitte siitä sen mitä se oli.</strong></p><br /><p><strong>\m/ SEE YOU IN THE PIT \m/</strong></p><br /><p><strong></strong>***</p><br /><p><strong>Sawohouse Garden Live -tapahtumakesä</strong> tarjoaa ainutlaatuisia elämyksiä Sawohousen sisäpihalla, joka muuntautuu kesäaikaan suureksi ulkoilma klubiksi. Säävarauksella keikat on mahdollista siirtää sisätiloihin Undergroundiin.<strong><br></strong></p><br /><br /><p>Liput ovelta 30 €, mikäli jäljellä.<br></p><br /><h3>Sawohouse Undergroundin pääsylippu toimii nyt myös matkalippuna!</h3><br /><p>Pääsylippu toimii myös joukkoliikennelippunasi, jolla voit matkustaa <a target="_blank" data-stringify-link="https://vilkku.kuopio.fi/" delay="150" data-sk="tooltip_parent" href="https://vilkku.kuopio.fi/" rel="noopener noreferrer">Vilkun busseissa</a>.</p><br /><p>Tapahtumalipun QR-koodi käy matkalippuna Kuopion seudun joukkoliikenne Vilkussa. Matkustusoikeus aktivoituu lippuusi tapahtumapäivänä 3 tuntia ennen tapahtuman ovien avaamista, ja sen voimassaolo päättyy 6 tuntia ovien avaamisen jälkeen. Matkalippu sisältää myös mahdollisuuden linja-auton vaihtoon.</p><br /><p>Tapahtumalippusi voi olla missä muodossa tahansa (esimerkiksi PDF-lippuna, mobiililippuna tai paperisena lippuna) saadaksesi matkustusoikeuden.</p><br /><h3>***</h3><br /><p><em>Haluatko tulla illalliselle ennen keikkaa?</em><em><br><em>Varaa ennakkoon <a href="mailto:info@sawohouse.fi" rel="nofollow">info@sawohouse.fi</a> tai puh. 010 3389490</em></em></p> <br /><br />  Visit event in our website: <a href='https://tapahtumainfo.fi/tapahtuma/2026/07/valhalla-metal-fest-reunion/441895'>Tapahtumainfo.fi</a></body></html>
END:VEVENT
END:VCALENDAR
