BEGIN:VCALENDAR
VERSION:2.0
PRODID:-//tapahtumainfo.fi//NONSGML Matthau Mikojan//EN
METHOD:REQUEST
BEGIN:VEVENT
UID:20260422T172624-1903775797-tapahtumainfo.fi
DTSTAMP:20260422T172624
DTSTART:20260703T020000Z
DTEND:20260703T020000Z
LOCATION:On The Rocks
SUMMARY:Matthau Mikojan
DESCRIPTION:<html><head></head><body><p dir="ltr"><strong>Matthau Mikojan</strong> palaa musiikkinsa äärelle uuden kokoonpanonsa voimin ja esiintyy On The Rocksissa heinäkuussa!&nbsp;<br><br>Viime vuosina mm. Kasevan laulusolistina, Raswaa koneeseen vol. 2! -kitaristina sekä Pate Mustajärven duo -aisaparina toiminut muusikko/ säveltäjä/sanoittaja tarjoaa aiemman soolotuotantonsa lisäksi Bloodpit -kappaleita, joita ei ole kuultu livenä sitten vuoden 2007.<br></p><br /><br /><p>Varmista soittoajat keikkapäivänä On The Rocksin sivuilta: <a href="http://www.rocks.fi/tapahtumat" target="_blank">www.rocks.fi/tapahtumat</a><strong><br></strong></p><br /><p><strong>Liput ovelta 18 €, mikäli jäljellä.</strong></p><br /><p><strong>Ovella peritään eteispalvelumaksu 3,80 €.</strong><strong><br></strong></p><br /><p><strong>---</strong></p><br /><p><strong>Saavustettavuus ja esteettömyys</strong><br>On The Rocksin tapahtumiin pääsee myös liikkumisen apuvälineillä. Tila ei ole täysin esteetön - tiloissa sijaitsee rappusia sekä kynnyksiä. Henkilökunta avustaa alakerran klubille pääsyssä hissin kautta. Avustaja pääsee tapahtumaan veloituksetta avustettavan kanssa samalla lipulla. <br> <br>Katso tarkemmat tiedot:<strong> <a href="https://www.rocks.fi/info/" target="_blank">https://www.rocks.fi/info</a><br><br>Turvallisemman tilan periaatteet<br> </strong>On the Rocks on sitoutunut järjestämään turvallisia tapahtumia. Lue lisää turvallisemman tilan periaatteista <a href="https://www.rocks.fi/info/#turvallisuus-head" target="_blank">täältä.</a></p> <br /><br />  Visit event in our website: <a href='https://tapahtumainfo.fi/tapahtuma/2026/07/matthau-mikojan/441896'>Tapahtumainfo.fi</a></body></html>
END:VEVENT
END:VCALENDAR
