BEGIN:VCALENDAR
VERSION:2.0
PRODID:-//tapahtumainfo.fi//NONSGML Topi Saha//EN
METHOD:REQUEST
BEGIN:VEVENT
UID:20260422T172608-1962453500-tapahtumainfo.fi
DTSTAMP:20260422T172608
DTSTART:20260704T020000Z
DTEND:20260704T020000Z
LOCATION:Tuba
SUMMARY:Topi Saha
DESCRIPTION:<html><head></head><body><p>Topi Saha esiintyy Tuballa soolona 4.7.2026!</p><br /><p>Vaihtoehtoiskelmän kruunaamaton kuningas <strong>Topi Saha </strong>on herännyt ruususenunestaan. Uusi albumi Öitä julkaistiin 31.1.2025.<br><br><em>"</em><em>Öitä</em><em> on levy, joka täytyi tehdä ainakin kahdesti. Annoin levyrupeaman alkumetreillä itselleni kirjoittamiseen liittyviä kieltoja ja rajoitteita, jotta en juuttuisi toistamaan liikaa itseäni. Pannaan joutuivat tiettyjen mollikulkujen lisäksi yksittäiset sanat kuten "pimeä" ja "hämärä". Kirjoitinkin levyllisen verran ihan mukavaa ja valoisaa amerikaniskelmää, kunnes pimeää alkoi puskea ovista ja ikkunoista. Heitin valmistuneet laulut roskiin ja päätin tyhjentää pankin tekemällä levyn, jonka jokainen laulu kertoo vain ja ainoastaan yöstä. Yksityisestä ja yhteisestä hämärästä. Ronteista ja roistoista. Putoamisesta ja nousemisesta. Ja tietysti rakkaudesta ja kaipauksesta"</em>, Saha kertoo.‍<br>‍<br>Topi Saha on vangitseva lauluntekijä, jolta on aiemmin ilmestynyt neljä kriitikoiden ylistämää soololevyä. Tiivistunnelmainen uutuusalbumi <em>Öitä </em>ilmestyi tammikuussa 2025. <strong>Julius Maurasen</strong> (mm. <strong>Oranssi Pazuzu</strong>,<strong> Viitasen Piia</strong>) tuottama levy on hypnoottinen soundtrack illan hämärästä sydänyön säkkipimeään. Jostain kajastaa hentoa valoa.<br><br>‍<em>”Tuntuu, kuin Topi Saha olisi ollut olemassa aina.”</em><br>– Aapo Siippainen, Savon Sanomat</p><br /><p>Tervetuloa keikalle!<br></p><br /><br /><p>Liput ovelta 23 €, mikäli jäljellä.</p><br /><p>Lippujen varausaika 2 päivää.</p> <br /><br />  Visit event in our website: <a href='https://tapahtumainfo.fi/tapahtuma/2026/07/topi-saha/441897'>Tapahtumainfo.fi</a></body></html>
END:VEVENT
END:VCALENDAR
