BEGIN:VCALENDAR
VERSION:2.0
PRODID:-//tapahtumainfo.fi//NONSGML Absoluuttinen Nollapiste//EN
METHOD:REQUEST
BEGIN:VEVENT
UID:20260423T130236-1001187681-tapahtumainfo.fi
DTSTAMP:20260423T130236
DTSTART:20260724T020000Z
DTEND:20260724T020000Z
LOCATION:Ääniwalli
SUMMARY:Absoluuttinen Nollapiste
DESCRIPTION:<html><head></head><body><p>"Absoluuttinen Nollapiste 200 vuotta” -otsikkoa kantava tasa- eli juhlavuosi etenee kesällä toiseen näytökseensä.  Progepop-genren omakseen ottanut yhtye osoitti maaliskuun keikoilla iskuvalmiutensa ja esittää Ääniwallissa otannan repertuaarinsa huipulta, jonka levytyskatalogi todistaa tasalakiseksi.<br></p><br /><br /><p><strong>Ovella peritään security fee 3,90 €.</strong></p><br /><p><strong>Liput ovelta 33&nbsp;</strong><strong>€, mikäli jäljellä.</strong></p><br /><p><strong>***</strong></p><br /><p><strong>Esteettömyys:<br></strong>Ääniwalliin on esteetön kulku terassilla olevaa ramppia pitkin. Ääniwallissa on yksi inva-wc joka sijaitsee Room 1:n vessojen yhteydessä. Mikäli osallistut tapahtumaan Room 1+1:n puolella, ole yhteydessä henkilökuntaan, niin kulku wc-tilohin järjestetään. Avustaja pääsee tapahtumiin maksutta. <br></p> <br /><br />  Visit event in our website: <a href='https://tapahtumainfo.fi/tapahtuma/2026/07/absoluuttinen-nollapiste/441900'>Tapahtumainfo.fi</a></body></html>
END:VEVENT
END:VCALENDAR
