BEGIN:VCALENDAR
VERSION:2.0
PRODID:-//tapahtumainfo.fi//NONSGML Mentalisti Pete Poskiparta: Mahdotonta//EN
METHOD:REQUEST
BEGIN:VEVENT
UID:20260420T191932-840379303-tapahtumainfo.fi
DTSTAMP:20260420T191932
DTSTART:20260814T020000Z
DTEND:20260814T020000Z
LOCATION:Kulttuurikeskus Skantz
SUMMARY:Mentalisti Pete Poskiparta: Mahdotonta
DESCRIPTION:<html><head></head><body><h3>Pete Poskiparran esityksessä kutitellaan nauruhermoja, luetaan ajatuksia ja muutetaan mahdoton mahdolliseksi.<br></h3><br /><p>Pete heittää koko valloittavan persoonansa peliin ja luo ainutlaatuisia ihmeitä katsojien korvien väliin. Peten show elää hetkessä ja tuo ilta illan jälkeen tuoreen ja erilaisen show’n yleisön ihmeteltäväksi.</p><br /><p>Mentalismia, taikuutta ja komiikkaa yhdistelevä esitys saa katsojat nauramaan ja hämmästymään kerta toisensa jälkeen. Pete Poskiparta on esiintynyt ympäri maailmaa ja palkittu niin kansallisesti Vuoden taikurina 2014 kuin kansainvälisesti arvostetulla Dunninger Memorial Award -pystillä 2019.</p><br /><p>Tätä ei voi tarkemmin selittää, tämä pitää itse kokea!</p><br /><br /><p>Esityksen kesto n. 1,5h sisältäen väliajan.</p><br /><p>Liput ovelta 35 €, jos jäljellä.</p><br /><p><strong>***<br></strong></p><br /><p><strong></strong><strong>Esteettömyys:</strong><br>Avustaja pääsee tapahtumaan ilmaiseksi avustettavan kanssa.<br>Tapahtumaan on esteetön pääsy.<br>Tapahtumapaikalla on esteetön WC.</p> <br /><br />  Visit event in our website: <a href='https://tapahtumainfo.fi/tapahtuma/2026/08/mentalisti-pete-poskiparta-mahdotonta/441901'>Tapahtumainfo.fi</a></body></html>
END:VEVENT
END:VCALENDAR
