BEGIN:VCALENDAR
VERSION:2.0
PRODID:-//tapahtumainfo.fi//NONSGML Jukka Poika//EN
METHOD:REQUEST
BEGIN:VEVENT
UID:20260420T205653-2073903882-tapahtumainfo.fi
DTSTAMP:20260420T205653
DTSTART:20260814T020000Z
DTEND:20260814T020000Z
LOCATION:G Livelab Tampere
SUMMARY:Jukka Poika
DESCRIPTION:<html><head></head><body><p><strong></strong>Suomireggaen kärkinimi Jukka Poika teki keväällä odotetun paluun ja julkaisi huhtikuussa uuden Comeback-albuminsa, joka katkaisee kymmenen vuoden albumitauon ja käynnistää uuden luvun artistin uralla. Albumilla kuullaan Jukka Pojan sanoin “Suomireggaeta vuonna 2026” – tuttua, tunnistettavaa soundia, joka saa modernin twistin määrätietoisesta energiasta ja kansainvälisistä vivahteista.</p><br /><p>“Albumilla on biisejä itsensä ja toisen kanssa olemisesta sekä jokunen rivi yhteiskuntana olemisestakin. Joskus laulu lähtee liikkeelle ajatus edellä, mutta usein annan riimien viedä paikkoihin, joihin ei muuten tulisi kurkittua”, Jukka Poika kuvailee albumia.</p><br /><p>Albumi on tuotettu yhdessä Victor Nordiksen kanssa, joka tunnetaan yhteistyöstään muun muassa Sexmanen, JVGn ja Ege Zulun kanssa.&nbsp;</p><br /><p>Jukka Poika tunnetaan luonnollisesti myös jättihiteistään kuten Kylmästä lämpimään, Silkkii ja Älä tyri nyt.</p><br /><p><a href="https://www.facebook.com/glivelab.tampere/" target="_blank">Facebook</a> <br><a href="https://www.instagram.com/glivelabtampere/" target="_blank">Instagram</a> <br> <a href="https://twitter.com/glivelabtampere" target="_blank">Twitter</a></p><br /><br /><p>Lipun hinta sisältää 3 € eteispalvelumaksun.</p><br /><p>Opiskelijalippuihin vaaditaan opiskelijakortti tai muu opiskelutodistus.</p><br /><p><em>***<br></em></p><br /><p><em> </em></p><br /><p><strong>G LIVELAB TAMPERE - TURVALLISUUSOHJE</strong></p><br /><p>Tutustu ajantasaisiin turvallisuusohjeisiin <a href="https://www.glivelab.fi/tampere/turvallisuus" target="_blank">Tampereen G Livelabin sivuilla</a>.<a href="https://www.glivelab.fi/tampere/turvallisuus" target="_blank"></a></p><br /><p>***</p><br /><p><strong>Esteettömyys: </strong><br></p><br /><p>Avustaja pääsee tapahtumaan ilmaiseksi avustettavan kanssa samalla lipulla: <strong>kyllä</strong><br>Tapahtumaan on esteetön pääsy pyörätuolilla: <strong>kyllä </strong><br>Tapahtumapaikalla on esteetön WC: <strong>kyllä</strong><br>Tapahtumassa on pyörätuolikoroke: <strong>ei</strong><br></p><br /><p>Katso tarkemmat esteettömyystiedot <a href="https://glivelab.fi/tampere/info/" target="_blank">G Livelabin sivuilta</a>.<br></p> <br /><br />  Visit event in our website: <a href='https://tapahtumainfo.fi/tapahtuma/2026/08/jukka-poika/441902'>Tapahtumainfo.fi</a></body></html>
END:VEVENT
END:VCALENDAR
