BEGIN:VCALENDAR
VERSION:2.0
PRODID:-//tapahtumainfo.fi//NONSGML Mortal sin (AUS), Freedomination, Jumalation//EN
METHOD:REQUEST
BEGIN:VEVENT
UID:20260421T165359-330546769-tapahtumainfo.fi
DTSTAMP:20260421T165359
DTSTART:20260816T020000Z
DTEND:20260816T020000Z
LOCATION:On The Rocks
SUMMARY:Mortal sin (AUS), Freedomination, Jumalation
DESCRIPTION:<html><head></head><body><h2>Australian thrashlegenda Mortal sin Suomeen!</h2><br /><p>1980-luvun puolivälissä Sydneyssä perustetun yhtyeen klassikkoalbumi&nbsp;"Mayhemic destruction" on yksi thrashmetalin kulmakivistä. Albumi juhlii&nbsp;nyt 40-vuotissyntymäpäiviään ja yhtye tekee laajan Euroopan kiertueen.&nbsp;Helsingissä niskanikamat verryttelevät Vantaalainen thrashia ja&nbsp;perinteisempää raskasta ilmaisua yhdistelevä Freedomination ja&nbsp;UG-thrashskenen vakionimi Jumalation.</p><br /><p>19.45 Jumalation<br>20.30 Freedomination<br>21.30 Mortal sin</p><br /><br /><p>Varmista soittoajat keikkapäivänä On The Rocksin sivuilta: <a href="http://www.rocks.fi/tapahtumat" target="_blank">www.rocks.fi/tapahtumat</a><br></p><br /><p><strong>Ovella peritään eteispalvelumaksu 3,50 €.</strong><strong><br></strong></p><br /><p><strong>---</strong></p><br /><p><strong>Saavustettavuus ja esteettömyys</strong><br>On The Rocksin tapahtumiin pääsee myös liikkumisen apuvälineillä. Tila ei ole täysin esteetön - tiloissa sijaitsee rappusia sekä kynnyksiä. Henkilökunta avustaa alakerran klubille pääsyssä hissin kautta. Avustaja pääsee tapahtumaan veloituksetta avustettavan kanssa samalla lipulla. <br> <br>Katso tarkemmat tiedot:<strong> <a href="https://www.rocks.fi/info/" target="_blank">https://www.rocks.fi/info</a><br><br>Turvallisemman tilan periaatteet<br> </strong>On the Rocks on sitoutunut järjestämään turvallisia tapahtumia. Lue lisää turvallisemman tilan periaatteista <a href="https://www.rocks.fi/info/#turvallisuus-head" target="_blank">täältä.</a></p> <br /><br />  Visit event in our website: <a href='https://tapahtumainfo.fi/tapahtuma/2026/08/mortal-sin-aus-freedomination-jumalation/441903'>Tapahtumainfo.fi</a></body></html>
END:VEVENT
END:VCALENDAR
