BEGIN:VCALENDAR
VERSION:2.0
PRODID:-//tapahtumainfo.fi//NONSGML Netta Skog ja Kaarle Viikate//EN
METHOD:REQUEST
BEGIN:VEVENT
UID:20260424T155739-977115213-tapahtumainfo.fi
DTSTAMP:20260424T155739
DTSTART:20260904T020000Z
DTEND:20260904T020000Z
LOCATION:Suisto-klubi
SUMMARY:Netta Skog ja Kaarle Viikate
DESCRIPTION:<html><head></head><body><h2>KAARLE VIIKATE & NETTA SKOG: Ikivihreitä tunnelmia ja tarinoita</h2><br /><p>Suomen metallimusiikista tutut Kaarle Viikate ja monissa eturivin bändeissä vaikuttanut harmonikan soittaja Netta Skog yhdistivät voimansa ensimmäistä kertaa muutama vuosi sitten ja palaavat taas ikivihreiden tunnelmien äärelle.</p><br /><p>Tämä duo haluaa tuoda yleisön lähemmäs niin sanottua ikivihreää aikaa ja on kerännyt ohjelmistoonsa klassikko-kappaleita niin Suomi-genrestä kuin myös ulkomaalaisista hiteistä.</p><br /><p>Lähestymistapa on maanläheinen ja soundimaailma varsin perinteinen. Tässä konseptissa "More is more" ei välttämättä päde, vaan halutaan luoda tunnelmaa tarinoilla ja kauniilla lyriikoilla. Kappaleiden uudet sovitukset ja hilpeät tarinat ovat tämän konseptin kirsikka kakussa.</p><br /><br /><p>Showtime 19:00<br>Suisto avoinna klo 16-02<br></p><br /><p>Lippu sisältää eteispalvelumaksun.<strong><br> </strong></p><br /><p>Liput ovelta 27 €, jos jäljellä.</p> <br /><br />  Visit event in our website: <a href='https://tapahtumainfo.fi/tapahtuma/2026/09/netta-skog-ja-kaarle-viikate/441908'>Tapahtumainfo.fi</a></body></html>
END:VEVENT
END:VCALENDAR
