BEGIN:VCALENDAR
VERSION:2.0
PRODID:-//tapahtumainfo.fi//NONSGML Eläkeläiset//EN
METHOD:REQUEST
BEGIN:VEVENT
UID:20260420T030921-1722873067-tapahtumainfo.fi
DTSTAMP:20260420T030921
DTSTART:20260905T020000Z
DTEND:20260905T020000Z
LOCATION:Suisto-klubi
SUMMARY:Eläkeläiset
DESCRIPTION:<html><head></head><body><p>Yhtye, joka on yhtä kotonaan Kihvelifestivaaleilla kuin Sauna Open Airissä tai Sweden Rockissa. Yhtye, joka tekee itse omat rajansa. Yhtye, jolle omat rajatkaan eivät meinaa riittää. Yhtye, joka on enemmän kuin käsite. Yhtye, joka soittaa humppaa. Eläkeläiset tekee keikkoja vakaa harkiten, aina ja silloin tällöin. Aikataulujen laatiminen osoittautuu välillä vaikeaksi, mutta lopulta ne kuitenkin valmistuvat – tai sitten eivät.<br></p><br /><br /><p>Showtime 21:00<br>Suisto avoinna klo 16-02<br></p><br /><p>Lippu sisältää eteispalvelumaksun.<strong><br> </strong></p><br /><p>Liput ovelta 38 €, jos jäljellä.</p> <br /><br />  Visit event in our website: <a href='https://tapahtumainfo.fi/tapahtuma/2026/09/elakelaiset/441910'>Tapahtumainfo.fi</a></body></html>
END:VEVENT
END:VCALENDAR
