BEGIN:VCALENDAR
VERSION:2.0
PRODID:-//tapahtumainfo.fi//NONSGML Aarne Pelkonen: Kauneimmat lauluni//EN
METHOD:REQUEST
BEGIN:VEVENT
UID:20260421T082210-1868773259-tapahtumainfo.fi
DTSTAMP:20260421T082210
DTSTART:20260909T020000Z
DTEND:20260909T020000Z
LOCATION:G Livelab
SUMMARY:Aarne Pelkonen: Kauneimmat lauluni
DESCRIPTION:<html><head></head><body><p>Baritoni Aarne Pelkonen on ikäpolvensa kysytyimpiä ooppera- ja konserttilaulajia Suomessa. Aarne on monipuolinen taiteilija, jonka taipuisaa instrumenttia on kuultu hyvin monenlaisen ohjelmiston parissa barokista moderniin ja oopperasta kamarimusiikkiin. Aarnen ääntä on luonnehdittu lämpimäksi, valoisaksi ja vivahteikkaaksi.<br><br>Aarne Pelkosen musiikilliset juuret vievät kirkkomusiikkiin ja saksankielisiin yksinlauluihin. Tärkeänä lankana uralla onkin ollut lähes 20-vuotinen yhteistyö pianisti Juho Alakärpän kanssa. Duon viimeisin julkaisu, Schubert: Winterreise (2025), sai kiittävän vastaanoton. Risto Nordell (Yle) luonnehti levyä ”tapaukseksi” suomalaisessa Lied-taiteessa. Ylen Kare Eskola taas kirjoitti duon edellistä Last Songs (2023) -levyä arvioidessaan, että Aarnen ”baritoni soi upeaa jännitettä”.<strong><br></strong><br><a href="https://www.facebook.com/glivelabhelsinki/" target="_blank">Facebook</a><br><a href="https://www.instagram.com/glivelabhelsinki/" target="_blank">Instagram</a><br><a href="https://twitter.com/glivelabhelsinki" target="_blank">Twitter</a></p><br /><br /> <br /><br />  Visit event in our website: <a href='https://tapahtumainfo.fi/tapahtuma/2026/09/aarne-pelkonen-kauneimmat-lauluni/441911'>Tapahtumainfo.fi</a></body></html>
END:VEVENT
END:VCALENDAR
