BEGIN:VCALENDAR
VERSION:2.0
PRODID:-//tapahtumainfo.fi//NONSGML WÖYH!//EN
METHOD:REQUEST
BEGIN:VEVENT
UID:20260421T082223-266522483-tapahtumainfo.fi
DTSTAMP:20260421T082223
DTSTART:20260910T020000Z
DTEND:20260910T020000Z
LOCATION:On The Rocks
SUMMARY:WÖYH!
DESCRIPTION:<html><head></head><body><h3>PROGEPUMPPU WÖYH! JATKAA SUOSITTUA WOOPPERA-KIERTUETTAAN</h3><br /><p>Kotimaisen progen tahtia pitävä WÖYH! jatkaa alkuvuodesta alkanutta Wooppera-levynjulkaisukiertuettaan tulevana syksynä. Syyskuussa Hyyrysten veljesten perustama yhtye nähdään kahdeksassa kaupungissa kautta maan.</p><br /><p>Jussi ja Antti Hyyrysen perustama WÖYH on julkaissut musiikkia jo kuuden albumillisen verran. Oleellinen osa bändin viehätystä on periksiantamaton, genreuskollinen ja loputtoman riemukas live.</p><br /><p>"<em>Wöyhökansan toiveesta ja suureksi iloksemme Wooppera raikaa jälleen syksyllä! WOOPPERA II 2026 -kiertueella tulemme wöyhöttämään kanssanne uusiin paikkoihin ja kaivattuja ikärajattomiakin keikkoja löytyy. Show on hiottu klassikoita ja tuoretta materiaalia yhdistellen raikkaaksi progesalaatiksi. Uskallamme tarjota wöyhötystakuun kaikilla mausteilla!</em>" Jussi lupaa.</p><br /><br /><p>Varmista soittoajat keikkapäivänä On The Rocksin sivuilta: <a href="http://www.rocks.fi/tapahtumat" target="_blank">www.rocks.fi/tapahtumat</a><strong><br></strong></p><br /><p><strong>Liput ovelta 33 €, mikäli jäljellä.</strong></p><br /><p><strong>Ovella peritään eteispalvelumaksu 3,80 €.</strong><strong><br></strong></p><br /><p><strong>---</strong></p><br /><p><strong>Saavustettavuus ja esteettömyys</strong><br>On The Rocksin tapahtumiin pääsee myös liikkumisen apuvälineillä. Tila ei ole täysin esteetön - tiloissa sijaitsee rappusia sekä kynnyksiä. Henkilökunta avustaa alakerran klubille pääsyssä hissin kautta. Avustaja pääsee tapahtumaan veloituksetta avustettavan kanssa samalla lipulla. <br> <br>Katso tarkemmat tiedot:<strong> <a href="https://www.rocks.fi/info/" target="_blank">https://www.rocks.fi/info</a><br><br>Turvallisemman tilan periaatteet<br> </strong>On the Rocks on sitoutunut järjestämään turvallisia tapahtumia. Lue lisää turvallisemman tilan periaatteista <a href="https://www.rocks.fi/info/#turvallisuus-head" target="_blank">täältä.</a></p> <br /><br />  Visit event in our website: <a href='https://tapahtumainfo.fi/tapahtuma/2026/09/woyh/441912'>Tapahtumainfo.fi</a></body></html>
END:VEVENT
END:VCALENDAR
