BEGIN:VCALENDAR
VERSION:2.0
PRODID:-//tapahtumainfo.fi//NONSGML Aarne Pelkonen//EN
METHOD:REQUEST
BEGIN:VEVENT
UID:20260421T083330-265567631-tapahtumainfo.fi
DTSTAMP:20260421T083330
DTSTART:20260910T020000Z
DTEND:20260910T020000Z
LOCATION:G Livelab Tampere
SUMMARY:Aarne Pelkonen
DESCRIPTION:<html><head></head><body><p><strong></strong>Aarne Pelkonen, laulu<br>Juho Alakärppä, piano<br>Marzi Nyman, piano ja kitara<br><br>Tässä lämminhenkisessä konsertissa monipuolisesta ohjelmistostaan tunnettu baritoni Aarne Pelkonen esittää levyjensä suosituimpia kappaleita, yleisön suosikkilauluja sekä uusia Aarnelle tehtyjä sävellyksiä. Ilta etenee klassisesta viihdesävelmiin, kun hetkessä elävät tulkintansa saavat niin Woframin laulu iltatähdelle, Schubertin ja Sibeliuksen klassikot kuin Haavekuvia-levyn hitit Maailma on kaunis ja Nocturne. Musiikin lomassa Aarne kertoo ajatuksiaan ja muistojaan uransa varrelta. Aarnen rinnalla musisoivat kaksi hänelle tärkeää muusikkoa, pianisti Juho Alakärppä ja kitaristi-pianisti Marzi Nyman</p><br /><p><a href="https://www.facebook.com/glivelab.tampere/" target="_blank">Facebook</a> <br><a href="https://www.instagram.com/glivelabtampere/" target="_blank">Instagram</a> <br> <a href="https://twitter.com/glivelabtampere" target="_blank">Twitter</a></p><br /><br /><p>Lipun hinta sisältää 3 € eteispalvelumaksun.</p><br /><p>Opiskelijalippuihin vaaditaan opiskelijakortti tai muu opiskelutodistus.</p><br /><p><em>***<br></em></p><br /><p><em> </em></p><br /><p><strong>G LIVELAB TAMPERE - TURVALLISUUSOHJE</strong></p><br /><p>Tutustu ajantasaisiin turvallisuusohjeisiin <a href="https://www.glivelab.fi/tampere/turvallisuus" target="_blank">Tampereen G Livelabin sivuilla</a>.<a href="https://www.glivelab.fi/tampere/turvallisuus" target="_blank"></a></p><br /><p>***</p><br /><p><strong>Esteettömyys: </strong><br></p><br /><p>Avustaja pääsee tapahtumaan ilmaiseksi avustettavan kanssa samalla lipulla: <strong>kyllä</strong><br>Tapahtumaan on esteetön pääsy pyörätuolilla: <strong>kyllä </strong><br>Tapahtumapaikalla on esteetön WC: <strong>kyllä</strong><br>Tapahtumassa on pyörätuolikoroke: <strong>ei</strong><br></p><br /><p>Katso tarkemmat esteettömyystiedot <a href="https://glivelab.fi/tampere/info/" target="_blank">G Livelabin sivuilta</a>.<br></p> <br /><br />  Visit event in our website: <a href='https://tapahtumainfo.fi/tapahtuma/2026/09/aarne-pelkonen/441913'>Tapahtumainfo.fi</a></body></html>
END:VEVENT
END:VCALENDAR
