BEGIN:VCALENDAR
VERSION:2.0
PRODID:-//tapahtumainfo.fi//NONSGML WÖYH! - WOOPPERA II//EN
METHOD:REQUEST
BEGIN:VEVENT
UID:20260421T033424-2099846347-tapahtumainfo.fi
DTSTAMP:20260421T033424
DTSTART:20260912T020000Z
DTEND:20260912T020000Z
LOCATION:House of Olaf
SUMMARY:WÖYH! - WOOPPERA II
DESCRIPTION:<html><head></head><body><p><strong>PROGEPUMPPU WÖYH! JATKAA SUOSITTUA WOOPPERA-KIERTUETTAAN  </strong></p><br /><p>Kotimaisen progen tahtia pitävä WÖYH! jatkaa alkuvuodesta alkanutta Wooppera-levynjulkaisukiertuettaan tulevana syksynä. Syyskuussa Hyyrysten veljesten perustama yhtye nähdään kahdeksassa kaupungissa kautta maan.&nbsp;</p><br /><p>Jussi ja Antti Hyyrysen perustama WÖYH on julkaissut musiikkia jo kuuden albumillisen verran. Oleellinen osa bändin viehätystä on periksiantamaton, genreuskollinen ja loputtoman riemukas live.</p><br /><p>&nbsp;"Wöyhökansan toiveesta ja suureksi iloksemme Wooppera raikaa jälleen syksyllä! WOOPPERA II 2026 -kiertueella tulemme wöyhöttämään kanssanne uusiin paikkoihin ja kaivattuja ikärajattomiakin keikkoja löytyy. Show on hiottu klassikoita ja tuoretta materiaalia yhdistellen raikkaaksi progesalaatiksi. Uskallamme tarjota wöyhötystakuun kaikilla mausteilla!" Jussi lupaa.</p><br /><br /><p><strong>Liput ovelta 30 €, jos jäljellä.</strong></p><br /><p><strong>Saavutettavuus</strong><br>Tapahtumaan on esteetön sisäänkäynti&nbsp;<br>Tapahtumassa on esteettömät kulkureitit <br>Tapahtumassa on esteetön WC <br>Asiakkaan avustaja pääsee maksutta<br></p> <br /><br />  Visit event in our website: <a href='https://tapahtumainfo.fi/tapahtuma/2026/09/woyh-wooppera-ii/441916'>Tapahtumainfo.fi</a></body></html>
END:VEVENT
END:VCALENDAR
