BEGIN:VCALENDAR
VERSION:2.0
PRODID:-//tapahtumainfo.fi//NONSGML WÖYH!//EN
METHOD:REQUEST
BEGIN:VEVENT
UID:20260420T080547-1121721269-tapahtumainfo.fi
DTSTAMP:20260420T080547
DTSTART:20260924T020000Z
DTEND:20260924T020000Z
LOCATION:G Livelab Tampere
SUMMARY:WÖYH!
DESCRIPTION:<html><head></head><body><h2>PROGEPUMPPU WÖYH! JATKAA SUOSITTUA WOOPPERA-KIERTUETTAAN!<strong></strong></h2><br /><p>Kotimaisen progen tahtia pitävä WÖYH! jatkaa alkuvuodesta alkanutta Wooppera-levynjulkaisukiertuettaan tulevana syksynä. Syyskuussa Hyyrysten veljesten perustama yhtye nähdään kahdeksassa kaupungissa kautta maan.&nbsp;</p><br /><p>Jussi ja Antti Hyyrysen perustama WÖYH on julkaissut musiikkia jo kuuden albumillisen verran. Oleellinen osa bändin viehätystä on periksiantamaton, genreuskollinen ja loputtoman riemukas live.&nbsp;</p><br /><p>"Wöyhökansan toiveesta ja suureksi iloksemme Wooppera raikaa jälleen syksyllä! WOOPPERA II 2026 -kiertueella tulemme wöyhöttämään kanssanne uusiin paikkoihin ja kaivattuja ikärajattomiakin keikkoja löytyy. Show on hiottu klassikoita ja tuoretta materiaalia yhdistellen raikkaaksi progesalaatiksi. Uskallamme tarjota wöyhötystakuun&nbsp;kaikilla mausteilla!"&nbsp;Jussi lupaa.<br></p><br /><br /><p><a href="https://www.facebook.com/glivelab.tampere/" target="_blank">Facebook</a> <br><a href="https://www.instagram.com/glivelabtampere/" target="_blank">Instagram</a> <br> <a href="https://twitter.com/glivelabtampere" target="_blank">Twitter</a></p><br /><br /><p>Lipun hinta sisältää 3 € eteispalvelumaksun.</p><br /><p>Opiskelijalippuihin vaaditaan opiskelijakortti tai muu opiskelutodistus.</p><br /><p><em>***<br></em></p><br /><p><em> </em></p><br /><p><strong>G LIVELAB TAMPERE - TURVALLISUUSOHJE</strong></p><br /><p>Tutustu ajantasaisiin turvallisuusohjeisiin <a href="https://www.glivelab.fi/tampere/turvallisuus" target="_blank">Tampereen G Livelabin sivuilla</a>.<a href="https://www.glivelab.fi/tampere/turvallisuus" target="_blank"></a></p><br /><p>***</p><br /><p><strong>Esteettömyys: </strong><br></p><br /><p>Avustaja pääsee tapahtumaan ilmaiseksi avustettavan kanssa samalla lipulla: <strong>kyllä</strong><br>Tapahtumaan on esteetön pääsy pyörätuolilla: <strong>kyllä </strong><br>Tapahtumapaikalla on esteetön WC: <strong>kyllä</strong><br>Tapahtumassa on pyörätuolikoroke: <strong>ei</strong><br></p><br /><p>Katso tarkemmat esteettömyystiedot <a href="https://glivelab.fi/tampere/info/" target="_blank">G Livelabin sivuilta</a>.<br></p> <br /><br />  Visit event in our website: <a href='https://tapahtumainfo.fi/tapahtuma/2026/09/woyh/441919'>Tapahtumainfo.fi</a></body></html>
END:VEVENT
END:VCALENDAR
