BEGIN:VCALENDAR
VERSION:2.0
PRODID:-//tapahtumainfo.fi//NONSGML Lemonator + Sugarrush//EN
METHOD:REQUEST
BEGIN:VEVENT
UID:20260423T003835-1697718795-tapahtumainfo.fi
DTSTAMP:20260423T003835
DTSTART:20260925T020000Z
DTEND:20260925T020000Z
LOCATION:Tavara-asema
SUMMARY:Lemonator + Sugarrush
DESCRIPTION:<html><head></head><body><br /><br /><p><strong>Eteispalvelu sisältyy lipun hintaan.</strong><strong><br></strong></p><br /><p><strong>Lipun hinta nousee Tiketissä tapahtumapäivänä ovien auetessa <br />ja myynti jatkuu verkkokaupassa ovien auettua, mikäli lippuja on <br />jäljellä. </strong><strong>Lipun hinta ovien auettua 35 €.<br></strong></p><br /><p><strong></strong></p><br /><p><strong><strong><strong><strong><strong>Tarkista soittoajat: <a href="https://www.tavara-asema.fi/" target="_blank">www.tavara-asema.fi</a></strong></strong></strong></strong></strong></p><br /><p><strong><strong>****</strong></strong></p><br /><p></p><br /><p><strong><strong>Tutustu Tavara-aseman <a href="https://tavara-asema.fi/info/" target="_blank">turvallisemman tilan periaatteisiin</a>.</strong></strong><strong><br></strong></p><br /><p><strong><strong><strong>Asiakkaana olevan henkilön avustaja pääsee tapahtumaan asiakkaan kanssa samalla lipulla.</strong></strong></strong></p><br /><p><strong><strong><a href="https://tavara-asema.fi/info/esteettomyys-ja-saavutettavuus/" target="_blank">Lue lisätietoa esteettömyydestä!</a></strong></strong></p> <br /><br />  Visit event in our website: <a href='https://tapahtumainfo.fi/tapahtuma/2026/09/lemonator-sugarrush/441920'>Tapahtumainfo.fi</a></body></html>
END:VEVENT
END:VCALENDAR
