BEGIN:VCALENDAR
VERSION:2.0
PRODID:-//tapahtumainfo.fi//NONSGML WÖYH!//EN
METHOD:REQUEST
BEGIN:VEVENT
UID:20260423T004556-1451994502-tapahtumainfo.fi
DTSTAMP:20260423T004556
DTSTART:20260925T020000Z
DTEND:20260925T020000Z
LOCATION:Street Food Factory
SUMMARY:WÖYH!
DESCRIPTION:<html><head></head><body><h3>PROGEPUMPPU WÖYH! JATKAA SUOSITTUA WOOPPERA-KIERTUETTAAN&nbsp;Street Food Factoryssa 25.09.2026!</h3><br /><p>Kotimaisen progen tahtia pitävä WÖYH! jatkaa alkuvuodesta alkanutta Wooppera-levynjulkaisukiertuettaan tulevana syksynä. Syyskuussa Hyyrysten veljesten perustama yhtye nähdään kahdeksassa kaupungissa kautta maan.</p><br /><p>Jussi ja Antti Hyyrysen perustama WÖYH on julkaissut musiikkia jo kuuden albumillisen verran. Oleellinen osa bändin viehätystä on periksiantamaton, genreuskollinen ja loputtoman riemukas live.</p><br /><p>"<em>Wöyhökansan toiveesta ja suureksi iloksemme Wooppera raikaa jälleen syksyllä! WOOPPERA II 2026 -kiertueella tulemme wöyhöttämään kanssanne uusiin paikkoihin ja kaivattuja ikärajattomiakin keikkoja löytyy. Show on hiottu klassikoita ja tuoretta materiaalia yhdistellen raikkaaksi progesalaatiksi. Uskallamme tarjota wöyhötystakuun kaikilla mausteilla!</em>" Jussi lupaa.</p><br /><br /><p>Liput ovelta 30 €, mikäli jäljellä.</p><br /><p><em>Jos tapahtumaan on lippuja jäljellä, niitä voi varata puhelinpalvelusta. Nettisivuilta vain suoria ostoja. Puhelinpalvelun kautta varausaika 2 päivää.  </em><br></p><br /><p><strong>Esteettömyys:</strong><br>Avustaja pääsee tapahtumaan ilmaiseksi avustettavan kanssa samalla lipulla: <strong>ei</strong><br>Tapahtumaan on esteetön pääsy pyörätuolilla: <strong>kyllä</strong><br>Tapahtumapaikalla on esteetön WC: <strong>kyllä</strong><br>Tapahtumapaikalla on mahdollisuus induktiosilmukan käyttöön: <strong>ei</strong><br>Tapahtumassa on pyörätuolikoroke: <strong>ei</strong><br>Pyörätuolia käyttävää tai erityistä avustusta tarvitsevaa asiakasta pyydetään olemaan etukäteen yhteydessä sujuvan sisäänpääsyn varmistamiseksi: <strong>kyllä</strong>: Vili Mäenpää 0469683539<br></p> <br /><br />  Visit event in our website: <a href='https://tapahtumainfo.fi/tapahtuma/2026/09/woyh/441921'>Tapahtumainfo.fi</a></body></html>
END:VEVENT
END:VCALENDAR
