BEGIN:VCALENDAR
VERSION:2.0
PRODID:-//tapahtumainfo.fi//NONSGML WÖYH! - WOOPPERA II//EN
METHOD:REQUEST
BEGIN:VEVENT
UID:20260420T022646-1791173855-tapahtumainfo.fi
DTSTAMP:20260420T022646
DTSTART:20260926T020000Z
DTEND:20260926T020000Z
LOCATION:Möysän Musaklubi
SUMMARY:WÖYH! - WOOPPERA II
DESCRIPTION:<html><head></head><body><h2>WÖYH!:N WOOPPERA II -KIERTUE KÄYNNISTYY SYYSKUUSSA</h2><br /><p>Eeppisen progeoopperan kiistaton kärkinimi WÖYH! jatkaa  joulukuussa 2025 ilmestynyttä Wooppera-albumia juhlistavaa kiertuetta tulevana syksynä. Jäljittelemättömällä tavalla kotimaista musiikkikenttää möyhentävän yhtyeen menestyskiertueen kakkososa kattaa kahdeksan paikkakuntaa. "Wöyhökansan toiveesta ja suureksi iloksemme Wooppera raikaa jälleen syksyllä! WOOPPERA II 2026 -kiertueella tulemme wöyhöttämään kanssanne uusiin paikkoihin ja kaivattuja ikärajattomiakin keikkoja löytyy. Show on hiottu klassikoita ja tuoretta materiaalia yhdistellen raikkaaksi progesalaatiksi. Uskallamme tarjota wöyhötystakuun kaikilla mausteilla!” maalailee Jussi Hyyrynen. Lipunmyynti on käynnissä esiintymispaikkojen omissa lipunmyyntikanavissa.<br><strong><br>WÖYH! - WOOPPERA II</strong><br><br>09.09. Nuijamies Venue, Lappeenranta<br>10.09. On The Rocks, Helsinki<br>11.09. Sawohouse Underground, Kuopio<br>12.09. House Of Olaf, Savonlinna<br>23.09. Louhisali, Espoo<br>24.09. G Livelab, Tampere<br>25.09. Street Food Factory, Kotka<strong><br>26.09. Möysän Musaklubi, Lahti</strong></p><br /><p><strong><br></strong><strong>Möysä:</strong> <a href="http://www.instagram.com/moysanmusaklubi" target="_blank">Instagram</a> |&nbsp;<a href="https://www.facebook.com/moysanmusaklubi/" target="_blank">Facebook</a>&nbsp;|&nbsp;<a href="https://twitter.com/moysanmusaklubi" target="_blank">X</a>&nbsp;| <a href="https://www.youtube.com/channel/UCixNw4ZKRfeDHYgori869bg/videos" target="_blank">Youtube</a><br></p><br /><br /><br /><p><strong>Liput ovelta &nbsp;33 €</strong><br></p><br /><p><span style="text-decoration: underline;"><span style="text-decoration: underline;"></span></span><strong><strong><strong><strong><span style="text-decoration: underline;"><strong><strong><span style="text-decoration: underline;">Klubikatsomo-lippu</span> </strong> (sisältää keikkalipun)</strong></span></strong></strong></strong></strong><br> - narikka sisältyy hintaan<br> - paikka klubikatsomosta josta erinomainen näkyvyys lavalle, halutessasi istumapaikka<br> - lippu vaihdetaan rannekkeeseen<span style="text-decoration: underline;"><br></span></p><br /><h2><a href="https://moysa.fi/vip/" target="_blank">⭐️ </a><a href="https://moysa.fi/vip/" data-auth="NotApplicable" target="_blank">Aitiovaraukset keikalle tästä</a> ⭐️<br /></h2><br /><p> </p><br /><h3><br></h3><br /><h3>Z-YÖJUNA HELSINKIIN</h3><br /><p>Nyt pääset viikonloppuisin Helsingistä junalla sujuvasti Möysän   <br />musaklubin eli Mössön keikoille Lahteen ja heti keikan jälkeen takaisin.</p><br /><p>Viimeinen Z-juna perjantaisin ja lauantaisin lähtee Lahdesta   <br />Helsinkiin klo 00.30 ja on perillä Helsingissä klo 01.30. Jatkossa   <br />helsinkiläisetkin ehtivät siis katsomaan Mössön perjantain ja lauantain <br />  keikan rauhassa loppuun asti. Virvoittava viiden minuutin kävely   <br />Mössöltä Lahden rautatieasemalle ja VR hoitaa loput!</p><br /><p>Tarkista juna-aikataulut <a href="https://www.vr.fi/" target="_blank">VR:n sivuilta</a>.</p><br /><p><strong>Lipun ostaneiden asiakkaiden yhteystiedot luovutetaan järjestäjälle tiedottamista / ohjeistamista varten.</strong></p><br /><p><strong>Pyörätuolilla kulku Mössölle tapahtuu henkilökunnan <br />avustamana sisäpihan kautta. Klubilla pääsee liikkumaan pyörätuolilla <br />rajoitetusti</strong><strong><br></strong></p> <br /><br />  Visit event in our website: <a href='https://tapahtumainfo.fi/tapahtuma/2026/09/woyh-wooppera-ii/441922'>Tapahtumainfo.fi</a></body></html>
END:VEVENT
END:VCALENDAR
