BEGIN:VCALENDAR
VERSION:2.0
PRODID:-//tapahtumainfo.fi//NONSGML Marius Neset Quartet (NO)//EN
METHOD:REQUEST
BEGIN:VEVENT
UID:20260422T183944-858926689-tapahtumainfo.fi
DTSTAMP:20260422T183944
DTSTART:20261002T020000Z
DTEND:20261002T020000Z
LOCATION:G Livelab
SUMMARY:Marius Neset Quartet (NO)
DESCRIPTION:<html><head></head><body><p>Marius Neset saapuu quartetinsa kanssa Helsingin G Livelabiin.<br><br>Nesetin musiikissa kohtaavat virtuoosinen soitto, rytminen kekseliäisyys ja laaja-alainen sävellyksellinen ajattelu. Hänen ilmaisunsa ammentaa jazzin lisäksi vaikutteita klassisesta musiikista, progressiivisesta rockista ja orkesterimaisesta ajattelusta – mutta kokonaisuus on aina tunnistettavasti Nesetin omaa. Saksofonin pariin kahdeksanvuotiaana tarttunut Neset nousi jo parikymppisenä Euroopan kiinnostavimpien jazzlupausten joukkoon, ja lopullinen läpimurto tapahtui ylistetyllä Golden Xplosion -albumilla vuonna 2011. Sen jälkeen hän on julkaissut useita kiitettyjä albumeita mm. Edition Recordsille ja ACT-levymerkille.<br><br>Marius Nesetin kvartetissa soittavat eurooppalaisen nykyjazzin huippumuusikot. Lontoosta mukana ovat kosketinsoittaja Elliot Galvin ja basisti Conor Chaplin, ja Kööpenhaminaa edustaa ruotsalais-norjalainen rumpali Anton Eger. Yhtyeen musiikissa sävelletty ja improvisoitu materiaali kietoutuvat toisiinsa saumattomasti, ja intensiivinen yhteissoitto, rytminen energia sekä jatkuva liike pitävät musiikin elävänä ja arvaamattomana.<br><br>Nesetin tuorein albumi Cabaret (ACT, 2025) on ylistys ystävyydelle ja musiikille – ja samalla osoitus yhtyeen ainutlaatuisesta kemiasta. Syrjäisellä norjalaisella saarella äänitetty levy sykkii leikkisyyttä, melodista runsautta ja rytmistä rohkeutta. <br><br>Marius Neset Quartet:<br>Marius Neset, tenori- ja sopraanosaksofoni <br>Elliot Galvin, koskettimet <br>Conor Chaplin, basso <br>Anton Eger, rummut</p><br /><p><a href="https://www.facebook.com/glivelabhelsinki/" target="_blank">Facebook</a><br><a href="https://www.instagram.com/glivelabhelsinki/" target="_blank">Instagram</a><br><a href="https://twitter.com/glivelabhelsinki" target="_blank">Twitter</a></p><br /><br /> <br /><br />  Visit event in our website: <a href='https://tapahtumainfo.fi/tapahtuma/2026/10/marius-neset-quartet-no/441923'>Tapahtumainfo.fi</a></body></html>
END:VEVENT
END:VCALENDAR
