BEGIN:VCALENDAR
VERSION:2.0
PRODID:-//tapahtumainfo.fi//NONSGML Absoluuttinen Nollapiste//EN
METHOD:REQUEST
BEGIN:VEVENT
UID:20260420T053318-205806070-tapahtumainfo.fi
DTSTAMP:20260420T053318
DTSTART:20261030T020000Z
DTEND:20261030T020000Z
LOCATION:G Livelab
SUMMARY:Absoluuttinen Nollapiste
DESCRIPTION:<html><head></head><body><p>Kulttibändi Absoluuttinen Nollapiste palasi vuonna 2025 keikkalavoille ja on tehnyt uutta musiikkia.<br><br>Absoluuttinen Nollapiste julkaisee uuden albumin ”Magneettipohjoinen” vuoden 2026 aikana.<br><br>Absoluuttinen Nollapiste on paras suomenkielinen proge-pop –bändi.</p><br /><p><a href="https://www.facebook.com/glivelabhelsinki/" target="_blank">Facebook</a><br><a href="https://www.instagram.com/glivelabhelsinki/" target="_blank">Instagram</a><br><a href="https://twitter.com/glivelabhelsinki" target="_blank">Twitter</a></p><br /><br /> <br /><br />  Visit event in our website: <a href='https://tapahtumainfo.fi/tapahtuma/2026/10/absoluuttinen-nollapiste/441925'>Tapahtumainfo.fi</a></body></html>
END:VEVENT
END:VCALENDAR
