BEGIN:VCALENDAR
VERSION:2.0
PRODID:-//tapahtumainfo.fi//NONSGML Verneri Pohjola & Tuomo Prättälä//EN
METHOD:REQUEST
BEGIN:VEVENT
UID:20260422T061332-990031453-tapahtumainfo.fi
DTSTAMP:20260422T061332
DTSTART:20261112T020000Z
DTEND:20261112T020000Z
LOCATION:G Livelab Tampere
SUMMARY:Verneri Pohjola & Tuomo Prättälä
DESCRIPTION:<html><head></head><body><p><strong></strong>Verneri Pohjola ja Tuomo Prättälä saapuvat yhdessä esiintymään Tampereen G Livelabiin.</p><br /><p>Kotimaisen jazzkentän kärkinimet Verneri Pohjola ja Tuomo Prättälä ovat työskennelleet yhdessä tiiviisti koko uransa ajan. Heidän pitkä ja monipuolinen yhteinen ystävyytensä on muovannut heistä lähes telepaattisen kaksikon.</p><br /><p>He laajentavat duon soundimaailmaa elektroniikalla, mikä tuo duon musiikkiin hypnoottisen ja vangitsevan ulottuvuuden. Tämä on kahden kypsän muusikon mielikuvituksen tuotos, joka tuo molempien parhaat puolet monipuolisesti esiin.</p><br /><p>Verneri Pohjola, trumpet<br>Tuomo Prättälä, piano</p><br /><p><a href="https://www.facebook.com/glivelab.tampere/" target="_blank">Facebook</a> <br><a href="https://www.instagram.com/glivelabtampere/" target="_blank">Instagram</a> <br> <a href="https://twitter.com/glivelabtampere" target="_blank">Twitter</a></p><br /><br /><p>Lipun hinta sisältää 3 € eteispalvelumaksun.</p><br /><p>Opiskelijalippuihin vaaditaan opiskelijakortti tai muu opiskelutodistus.</p><br /><p><em>***<br></em></p><br /><p><em> </em></p><br /><p><strong>G LIVELAB TAMPERE - TURVALLISUUSOHJE</strong></p><br /><p>Tutustu ajantasaisiin turvallisuusohjeisiin <a href="https://www.glivelab.fi/tampere/turvallisuus" target="_blank">Tampereen G Livelabin sivuilla</a>.<a href="https://www.glivelab.fi/tampere/turvallisuus" target="_blank"></a></p><br /><p>***</p><br /><p><strong>Esteettömyys: </strong><br></p><br /><p>Avustaja pääsee tapahtumaan ilmaiseksi avustettavan kanssa samalla lipulla: <strong>kyllä</strong><br>Tapahtumaan on esteetön pääsy pyörätuolilla: <strong>kyllä </strong><br>Tapahtumapaikalla on esteetön WC: <strong>kyllä</strong><br>Tapahtumassa on pyörätuolikoroke: <strong>ei</strong><br></p><br /><p>Katso tarkemmat esteettömyystiedot <a href="https://glivelab.fi/tampere/info/" target="_blank">G Livelabin sivuilta</a>.<br></p> <br /><br />  Visit event in our website: <a href='https://tapahtumainfo.fi/tapahtuma/2026/11/verneri-pohjola-tuomo-prattala/441927'>Tapahtumainfo.fi</a></body></html>
END:VEVENT
END:VCALENDAR
