BEGIN:VCALENDAR
VERSION:2.0
PRODID:-//tapahtumainfo.fi//NONSGML Archspire + Crown Magnetar, The Zenith Passage, Analepsy//EN
METHOD:REQUEST
BEGIN:VEVENT
UID:20260422T132103-1911389092-tapahtumainfo.fi
DTSTAMP:20260422T132103
DTSTART:20261121T020000Z
DTEND:20261121T020000Z
LOCATION:Ääniwalli
SUMMARY:Archspire + Crown Magnetar, The Zenith Passage, Analepsy
DESCRIPTION:<html><head></head><body><h2><strong>KANADALAINEN TEKNINEN DEATH METAL -YHTYE ARCHSPIRE ÄÄNIWALLIIN MARRASKUUSSA</strong></h2><br /><p dir="ltr">TuskaLive ja Grey Beard esittävät:</p><br /><p dir="ltr">Kanadalainen, äärimmäisen teknistä death metallia tulittava <strong>Archspire</strong> saapuu Helsinkiin ja tarkemmin Ääniwalliin marraskuun 21. päivä näyttämään miten haipakkaa dödistä soitetaan ison veden tuolla puolen. Archspire tunnetaan poikkeuksellisesta soittonopeudestaan ja virtuoosimaisesta tarkkuudestaan, kuin myös ainutlaatuisista, lähes räppimäisellä sykkeellä kulkevista vokaaleistaan. Archspire julkaisi juuri uuden <em>Too Fast To Die</em> -albumin, jota tukevalla kiertueella yhtye saapuu Helsinkiin.</p><br /><p dir="ltr">Teknisen ja brutaalin kiertuepaketin muina bändeinä nähdään coloradolainen deathcore-ryhmä <strong>Crown Magentar</strong>, losangelesilainen teknistä dödistä työstävä <strong>The Zenith Passage</strong> sekä portugalilainen, brutaalia death metallia survova <strong>Analepsy</strong>.</p><br /><p dir="ltr"><a href="https://archspire.net/" target="_blank">Archspire</a><br><a href="https://www.instagram.com/crownmagnetar/" target="_blank">Instagram&nbsp;| Crown Magentar</a><br><a href="https://www.instagram.com/thezenithpassage/" target="_blank">Instagram&nbsp;| The Zenith Passage</a><br><a href="https://analepsy.pt/" target="_blank">Analepsy</a><br><a href="https://tuska.fi/tuskalive/" target="_blank">TuskaLive</a><br><a href="https://www.greybeard.fi/" target="_blank">Grey Beard</a><br></p><br /><br /><br /><br /><br /><br /><br /><br /><br /><p>Liput ovelta, mikäli jäljellä.</p><br /><p>Ovella peritään security fee 3,90 €.<strong><strong><strong></strong></strong></strong></p><br /><p>Tapahtumassa ei hyväksytä minkäänlaista syrjintää, häirintää tai väkivaltaa. Tutustu Ääniwallin turvallisuusohjeeseen: <a href="http://www.aaniwalli.fi/turvallisuus" target="_blank">www.aaniwalli.fi/turvallisuus</a><br></p><br /><p><strong>Esteettömyys:</strong><br>Ääniwalliin on esteetön kulku terassilla olevaa ramppia pitkin. Ääniwallissa on yksi inva-wc joka sijaitsee Room 1:n vessojen yhteydessä. Mikäli osallistut tapahtumaan Room 1+1:n puolella, ole yhteydessä henkilökuntaan, niin kulku wc-tilohin järjestetään. Avustaja pääsee tapahtumiin maksutta. </p> <br /><br />  Visit event in our website: <a href='https://tapahtumainfo.fi/tapahtuma/2026/11/archspire-crown-magnetar-the-zenith-passage-analepsy/441928'>Tapahtumainfo.fi</a></body></html>
END:VEVENT
END:VCALENDAR
