BEGIN:VCALENDAR
VERSION:2.0
PRODID:-//tapahtumainfo.fi//NONSGML Maria Ylipää & Marzi Nyman//EN
METHOD:REQUEST
BEGIN:VEVENT
UID:20260421T032834-2029792498-tapahtumainfo.fi
DTSTAMP:20260421T032834
DTSTART:20261125T020000Z
DTEND:20261125T020000Z
LOCATION:G Livelab
SUMMARY:Maria Ylipää & Marzi Nyman
DESCRIPTION:<html><head></head><body><p>Kaksi monialaista ja karismaattista muusikkoa kohtaavat intensiivisessä musiikkilajien yhteentörmäyksessä, jossa jokainen ilta on erilainen. Irtonainen improvisaatio ryydittää sekä kaikkien rakastamia klassikkokappaleita että suomalaiseen runouteen sävellettyä taidemusiikkia. Kamarimusiikillinen konsertti täynnä suurta tunnetta ja syvää musiikillista yhteyttä; virtuositeettia kaihtamatta, rakkaudella!<br><br>Kokoonpano:<br>Maria Ylipää, laulu<br>Marzi Nyman, kitara, piano, laulu</p><br /><p><a href="https://www.facebook.com/glivelabhelsinki/" target="_blank">Facebook</a><br><a href="https://www.instagram.com/glivelabhelsinki/" target="_blank">Instagram</a><br><a href="https://twitter.com/glivelabhelsinki" target="_blank">Twitter</a></p><br /><br /> <br /><br />  Visit event in our website: <a href='https://tapahtumainfo.fi/tapahtuma/2026/11/maria-ylipaa-marzi-nyman/441929'>Tapahtumainfo.fi</a></body></html>
END:VEVENT
END:VCALENDAR
