BEGIN:VCALENDAR
VERSION:2.0
PRODID:-//tapahtumainfo.fi//NONSGML Kerubi Live 2026//EN
METHOD:REQUEST
BEGIN:VEVENT
UID:20260420T141942-1958867512-tapahtumainfo.fi
DTSTAMP:20260420T141942
DTSTART:20261128T020000Z
DTEND:20261128T020000Z
LOCATION:Joensuu Areena
SUMMARY:Kerubi Live 2026
DESCRIPTION:<html><head></head><body><p>Tänä vuonna tulee kuluneeksi tasan 40 vuotta siitä, kun ruotsalainen <strong>Europe </strong>sinkaisi kertaheitolla maailman suosituimpien rock-yhtyeiden joukkoon.</p><br /><p><em>The Final Countdown</em> -hitti ja sitä seurannut singlen nimeä kantava albumi on edelleen yksi kaikkien aikojen legendaarisimmista hard rock -hetkistä kautta maailman. <em>The Final Countdown</em> -single nousi julkaisunsa aikaan listaykköseksi 25 maassa, ja itse albumi keikkui Yhdysvaltain Billboard-listalla yli 60 viikon ajan. Tänä vuonna yhtye suuntaa massiiviselle <em>The Final Countdown 40th Anniversary</em> -kiertueelle, ja saapuu Joensuuhun ja Kerubi Liveen lauantaina 28.11.</p><br /><p>Europen lisäksi Kerubi Livessä nähdään tammikuussa uuden albumin julkaissut ja seuraavaa jo työstävä <strong>51koodia</strong>, hyväntuulisen sekoilun mestarit <strong>Eläkeläiset </strong>sekä bluesin ja kitarataituruuden kärkinimi <strong>Erja </strong><strong>Lyytinen</strong>. Mukaan tulee vielä yksi myöhemmin julkaistava esiintyjä.</p><br /><p>Portit avautuvat Areenalla lauantaina 28.11. klo 16. Soittoaikataulu julkaistaan myöhemmin.</p><br /><p>VIP-lippuun kuuluu&nbsp;VIP-menu, joka julkaistaan huhtikuun aikana, mutta tarjolla on Kerubin grilliherkkuja alkusalaattien ja maukkaiden jälkkärien kera. Ruoka katetaan VIP-alueen noutopöytään.</p><br /><p><strong>HUOM!</strong> Unholy Winter Festiin Europen keikalle jo aikaisemmin ostettu pääsylippu käy sellaisenaan lauantaina 28.11. Kerubi Liveen tai lipulla pääsee perjantaina 27.11. Unholy Winter Festiin. Voit päättää itse kumpaan tulet.</p><br /><br /><p><strong>Esteettömyys</strong><br>Avustaja pääsee tapahtumaan ilmaiseksi avustettavan kanssa samalla lipulla: <strong>kyllä</strong><br>Tapahtumaan on esteetön pääsy pyörätuolilla: <strong>kyllä</strong><br>Tapahtumapaikalla on esteetön WC: <strong>kyllä</strong></p> <br /><br />  Visit event in our website: <a href='https://tapahtumainfo.fi/tapahtuma/2026/11/kerubi-live-2026/441930'>Tapahtumainfo.fi</a></body></html>
END:VEVENT
END:VCALENDAR
