BEGIN:VCALENDAR
VERSION:2.0
PRODID:-//tapahtumainfo.fi//NONSGML NEØV + Ruissalo Amping//EN
METHOD:REQUEST
BEGIN:VEVENT
UID:20260422T131937-222217048-tapahtumainfo.fi
DTSTAMP:20260422T131937
DTSTART:20261128T020000Z
DTEND:20261128T020000Z
LOCATION:G Livelab
SUMMARY:NEØV + Ruissalo Amping
DESCRIPTION:<html><head></head><body><p>Lajissaan Suomen parhaaksi tituleerattu indieyhtye NEØV julkaisee kuudennen albuminsa Goodbye Nordhamn syksyllä 2026. Viime vuosina enimmäkseen ulkomailla keikkaillut yhtye juhlii Suomen-levyjulkkareitaan G Livelabissa lauantaina 28. marraskuuta.<br><br>Juankoskelaislähtöisten veljesten ja multi-instrumentalistien Anssi ja Samuli Neuvosen muodostama NEØV on kerännyt mittavasti radiosoittoa ja medianäkyvyyttä Keski-Euroopassa, ja yhtye on noussut yhdeksi pohjoismaisen indiepopin kärkinimistä. Kokoonpanon omaäänisessä musiikissa ilmavat sävellykset, rikkaat instrumentaatiot ja introspektiiviset sanoitukset luovat katkeransuloisen pohjavireen, jossa yhdistyvät melankolia ja toiveikkuus.<br><br>Uusi albumi Goodbye Nordhamn äänitettiin legendaarisella Sundlaugin-studiolla Islannissa yhteistyössä Birgir Jón Birgissonin (mm. Sigur Rós, Björk, Jon Hopkins, Sólstafir) kanssa. Albumin julkaisee berliiniläinen Motor Music.<br><br>Illan avaa Ruissalo Amping.<br><br>Ruissalo Amping julkaisi kiehtovan ja kehutun debyyttialbuminsa Tähtien suojatit Maan povella vuoden 2021 lopulla. Kesällä 2023 yhtye palasi julkaisutauolta suomenkielisellä coverilla HIM:in kappaleesta When Love and Death Embrace, joka julkaistiin nimellä Rakkaus kuolemassa elää.<br><br>Ruissalo Ampingin toinen albumi Ruusupuutarha julkaistiin 2024. Turvan ja vapautumisen teemoille rakentuva levy vie kuulijansa entistä ruusuisempiin ja romanttisempiin maailmoihin, ollen yhtä aikaa sekä ulos- että sisäänpäinkääntyneempi kuin aiemmin.<br>Tällä hetkellä Ruissalo Amping valmistelee kolmatta albumiaan.</p><br /><p><a href="https://www.facebook.com/glivelabhelsinki/" target="_blank">Facebook</a><br><a href="https://www.instagram.com/glivelabhelsinki/" target="_blank">Instagram</a><br><a href="https://twitter.com/glivelabhelsinki" target="_blank">Twitter</a></p><br /><br /> <br /><br />  Visit event in our website: <a href='https://tapahtumainfo.fi/tapahtuma/2026/11/ne-v-ruissalo-amping/441931'>Tapahtumainfo.fi</a></body></html>
END:VEVENT
END:VCALENDAR
