BEGIN:VCALENDAR
VERSION:2.0
PRODID:-//tapahtumainfo.fi//NONSGML Dave Lindholm & Pepe Ahlqvist//EN
METHOD:REQUEST
BEGIN:VEVENT
UID:20260420T042324-1187431822-tapahtumainfo.fi
DTSTAMP:20260420T042324
DTSTART:20261202T020000Z
DTEND:20261202T020000Z
LOCATION:Möysän Musaklubi
SUMMARY:Dave Lindholm & Pepe Ahlqvist
DESCRIPTION:<html><head></head><body><blockquote><p><strong>Dave Lindholm & Pepe Ahlqvist: WALKIN’ BLUES -kiertue</strong></p><br /><p>Dave Lindholmin ja Pepe Ahlqvistin ainutlaatuinen, ensimmäinen yhteinen konserttikiertue tuo lavalle kaksi kotimaisen bluesin legendaa. <br>Ohjelmisto rakentuu kokonaisuudessaan bluesmusiikin ympärille – luvassa on juurevaa soittoa ja vahvaa tulkintaa.</p><br /><p>Dave Lindholm – kitara ja laulu<br>Pepe Ahlqvist – kitara, laulu ja huuliharppu</p></blockquote><br /><p><strong><br></strong><strong>Möysä:</strong> <a href="http://www.instagram.com/moysanmusaklubi" target="_blank">Instagram</a> |&nbsp;<a href="https://www.facebook.com/moysanmusaklubi/" target="_blank">Facebook</a>&nbsp;|&nbsp;<a href="https://twitter.com/moysanmusaklubi" target="_blank">X</a>&nbsp;| <a href="https://www.youtube.com/channel/UCixNw4ZKRfeDHYgori869bg/videos" target="_blank">Youtube</a><br></p><br /><br /><p><strong>Liput ovelta &nbsp;28 €</strong><br></p><br /><p><span style="text-decoration: underline;"><span style="text-decoration: underline;"></span></span><strong><strong><strong><strong><span style="text-decoration: underline;"><strong><strong><span style="text-decoration: underline;">Klubikatsomo-lippu</span> </strong> (sisältää keikkalipun)</strong></span></strong></strong></strong></strong><br> - narikka sisältyy hintaan<br> - paikka klubikatsomosta josta erinomainen näkyvyys lavalle, halutessasi istumapaikka<br> - lippu vaihdetaan rannekkeeseen<span style="text-decoration: underline;"><br></span></p><br /><h2><a href="https://moysa.fi/vip/" target="_blank">⭐️ </a><a href="https://moysa.fi/vip/" data-auth="NotApplicable" target="_blank">Aitiovaraukset keikalle tästä</a> ⭐️<br /></h2><br /><p> </p><br /><h3><br></h3><br /><h3>Z-YÖJUNA HELSINKIIN</h3><br /><p>Nyt pääset viikonloppuisin Helsingistä junalla sujuvasti Möysän   <br />musaklubin eli Mössön keikoille Lahteen ja heti keikan jälkeen takaisin.</p><br /><p>Viimeinen Z-juna perjantaisin ja lauantaisin lähtee Lahdesta   <br />Helsinkiin klo 00.30 ja on perillä Helsingissä klo 01.30. Jatkossa   <br />helsinkiläisetkin ehtivät siis katsomaan Mössön perjantain ja lauantain <br />  keikan rauhassa loppuun asti. Virvoittava viiden minuutin kävely   <br />Mössöltä Lahden rautatieasemalle ja VR hoitaa loput!</p><br /><p>Tarkista juna-aikataulut <a href="https://www.vr.fi/cs/vr/fi/etusivu" target="_blank">täältä</a>.</p><br /><p><strong>Lipun ostaneiden asiakkaiden yhteystiedot luovutetaan järjestäjälle tiedottamista / ohjeistamista varten.</strong></p><br /><p><strong>Pyörätuolilla kulku Mössölle tapahtuu henkilökunnan <br />avustamana sisäpihan kautta. Klubilla pääsee liikkumaan pyörätuolilla <br />rajoitetusti</strong><strong><br></strong></p> <br /><br />  Visit event in our website: <a href='https://tapahtumainfo.fi/tapahtuma/2026/12/dave-lindholm-pepe-ahlqvist/441932'>Tapahtumainfo.fi</a></body></html>
END:VEVENT
END:VCALENDAR
