BEGIN:VCALENDAR
VERSION:2.0
PRODID:-//tapahtumainfo.fi//NONSGML Kiitos Katri Helena//EN
METHOD:REQUEST
BEGIN:VEVENT
UID:20260422T043814-1608975162-tapahtumainfo.fi
DTSTAMP:20260422T043814
DTSTART:20270127T020000Z
DTEND:20270127T020000Z
LOCATION:Tavastia-klubi
SUMMARY:Kiitos Katri Helena
DESCRIPTION:<html><head></head><body><h3>Kiitos Katri Helena -konserttikiertue 2027</h3><br /><p>Tervetuloa ainutlaatuiseen konserttielämykseen juhlistamaan Katri Helenan poikkeuksellista ja rakastettua uraa. Tämä lämminhenkinen kiertue on kunnianosoitus Katri Helenan tuotannolle – lauluihin, jotka ovat kulkeneet suomalaisten mukana vuosikymmenestä toiseen ja jättäneet pysyvän jäljen kansamme sydämiin.</p><br /><p>Lavalle nousee upea kattaus kotimaisia tähtiartisteja: <strong>Arja Koriseva</strong>,<strong> Anne Mattila</strong>, <strong>Antti Ketonen </strong>sekä <strong>Antti Railio</strong>. He tulkitsevat Katri Helenan tunnetuimpia kappaleita omalla persoonallisella tyylillään – kunnioittaen alkuperäistä, mutta tuoden mukaan myös uusia sävyjä ja tunteita.</p><br /><p>Konsertin musiikista vastaa kapellimestari Mirka Dojanin johtama orkesteri, joka luo illalle korkeatasoisen ja koskettavan äänimaiseman. Yhdessä artistien kanssa he vievät yleisön matkalle läpi unohtumattomien melodioiden, suurten tunteiden ja yhteisten muistojen.</p><br /><p>Kiitos Katri Helena -kiertue on elämys, jossa nostalgia ja nykyhetki kohtaavat. Illan aikana kuullaan klassikoita, jotka herättävät henkiin elämäsi tärkeät hetket ja muistuttavat musiikin voimasta yhdistää ihmisiä sukupolvien yli.</p><br /><p>Tule mukaan jakamaan tämä erityinen ilta – laulamaan, muistamaan ja kiittämään!</p><br /><p><strong>Saavutettavuus</strong></p><br /><p>Tavastian katutason kerros on esteetön. Sisäänkäynnillä on pieni kynnys, johon on saatavilla ramppi. Tilassa on esteetön wc-tila. <a href="https://tavastiaklubi.fi/info/" target="_blank" rel="noopener">Lue lisää saavutettavuudesta Tavastian sivuilta!</a>&nbsp;Avustaja ei tarvitse erillistä lippua vaan pääsee avustettavan kanssa samalla normaalilipulla sisään. Esitäthän pyydettäessä EU:n vammaiskortin.</p><br /><p><strong>Eteispalvelu</strong></p><br /><p>Eteispalvelusta veloitamme 4 € per henkilö. Päällysvaatteet ja suuret laukut tulee jättää narikkaan turvallisuussyistä. Huomioithan, että pääsylipussa mainittu palvelumaksu tarkoittaa Tiketin lipunmyynnin palvelumaksua, eikä eteispalvelua paikan päällä.</p><br /><p><strong>Turvallisuusohje</strong><br><br>Tavastialla on nollatoleranssi kaikenlaiselle häirinnälle, kiusaamiselle, syrjinnälle, väkivallalle sekä vallan väärinkäytölle. Edellytämme jokaista meillä vierailevaa sitoutumaan turvallisemman tilan periaatteisiin. Huomioithan siis keikalla myös ihmiset ympärilläsi!</p><br /><p><strong>Ympäristölippu<br><br></strong>Ympäristölipulla osallistut Tavastian ja Luonnoperintösäätiön metsäkeräykseen: 3€ osuus ohjataan metsäkeräykseen lokakuussa 2024 hankkimamme suojelualueen laajentamiseksi. <a href="https://luonnonperintosaatio.fi/tavastian-metsa" target="_blank" rel="noopener">Tutustu tarkemmin Luonnonperintösäätiön sivuilla!</a>&nbsp;Kiitos kun olet mukana rakentamassa kestävämpää Tavastiaa!</p><br /><p>Syömään tai lasilliselle ennen keikkaa? <a href="http://www.ravintolailves.fi/" target="_blank">Tule Ravintola Ilvekseen!</a></p><br /><p><br></p><br /><br /><p><strong>Varmista soittoajat keikkapäivänä <a href="https://www.tavastiaklubi.fi" target="_blank"><span style="text-decoration-line: underline;">Tavastian sivuilta</span></a>.</strong><br></p> <br /><br />  Visit event in our website: <a href='https://tapahtumainfo.fi/tapahtuma/2027/01/kiitos-katri-helena/441934'>Tapahtumainfo.fi</a></body></html>
END:VEVENT
END:VCALENDAR
