BEGIN:VCALENDAR
VERSION:2.0
PRODID:-//tapahtumainfo.fi//NONSGML 15-vuotiaiden lempikirjat//EN
METHOD:REQUEST
BEGIN:VEVENT
UID:20260426T064833-1471049787-tapahtumainfo.fi
DTSTAMP:20260426T064833
DTSTART:20260401T020000Z
DTEND:20260930T020000Z
LOCATION:Suomalaisen kirjan museo Pukstaavi
SUMMARY:15-vuotiaiden lempikirjat
DESCRIPTION:<html><head></head><body>Pukstaavin perusnÃ¤yttelyn Koti ja kirja -osiossa kerrotaan, minkÃ¤laisia kotien kirjahyllyt ovat olleet eri aikoina ja mitÃ¤ ne ovat sisÃ¤ltÃ¤neet. NykypÃ¤ivÃ¤n esimerkkinÃ¤ toimii KirjanystÃ¤vÃ¤n kirjahylly, jonka sisÃ¤ltÃ¶ vaihtuu noin puolen vuoden vÃ¤lein. Nyt KirjanystÃ¤vÃ¤n kirjahyllyssÃ¤ on esillÃ¤ MouhijÃ¤rven yhteiskoulun 8.-luokkalaisten lempikirjoja. NÃ¤yttelyn teksteissÃ¤ nuoret kertovat, miksi ovat valinneet kyseiset kirjat. KirjahyllystÃ¤ lÃ¶ytyy niin lapsuuden suosikkeja kuin harrastuksiin liittyvÃ¤Ã¤ kirjallisuuttakin.<br><br>NÃ¤yttelyllÃ¤ juhlistetaan tÃ¤nÃ¤ vuonna 15 vuotta tÃ¤yttÃ¤vÃ¤Ã¤ Suomalaisen kirjan museo Pukstaavia. <br /><br />  Visit event in our website: <a href='https://tapahtumainfo.fi/tapahtuma/2026/04/15-vuotiaiden-lempikirjat/441936'>Tapahtumainfo.fi</a></body></html>
END:VEVENT
END:VCALENDAR
