BEGIN:VCALENDAR
VERSION:2.0
PRODID:-//tapahtumainfo.fi//NONSGML Arkkitehtuurista tarinoiksi â kirjailijatapaamisessa Sanna Puutonen//EN
METHOD:REQUEST
BEGIN:VEVENT
UID:20260422T132112-1536806545-tapahtumainfo.fi
DTSTAMP:20260422T132112
DTSTART:20260523T020000Z
DTEND:20260523T020000Z
LOCATION:Aalto2
SUMMARY:Arkkitehtuurista tarinoiksi â kirjailijatapaamisessa Sanna Puutonen
DESCRIPTION:<html><head></head><body>Museon galleriassa esillÃ¤ oleva uusi nÃ¤yttely lÃ¤hestyy Aallon arkkitehtuuria tarinoiden ja kokijoiden kautta. Kirjallisuus ja arkkitehtuuri kÃ¤yvÃ¤t vuoropuhelua toisiaan tÃ¤ydentÃ¤en. Fiktiiviset tarinat avaavat arkkitehtuurin ja tilan kokemista, ajankuvaa ja arkkitehtuurin yhteiskunnallista merkitystÃ¤ erilaisten kokijoiden nÃ¤kÃ¶kulmien avulla.<br><br><br>NÃ¤yttelyn tarinoiden kirjoittaja kirjailija Sanna Puutonen on tavattavissa nÃ¤yttelyssÃ¤. HÃ¤n kertoo nÃ¤yttelyn tekstien muotoutumisesta ja siitÃ¤, miten Aallon arkkitehtuuri taipuu kirjallisuudeksi. LisÃ¤ksi hÃ¤n lukee otteita nÃ¤yttelyn tarinoista. Tilaisuuden aluksi nÃ¤yttelyprosessista kertoo Alvar Aalto -museon intendentti Mari Murtoniemi.<br><br>Tapahtuma sisÃ¤ltyy Aalto2-museokeskuksen pÃ¤Ã¤symaksuun. <br /><br />  Visit event in our website: <a href='https://tapahtumainfo.fi/tapahtuma/2026/05/arkkitehtuurista-tarinoiksi--kirjailijatapaamisessa-sanna-puutonen/441939'>Tapahtumainfo.fi</a></body></html>
END:VEVENT
END:VCALENDAR
