BEGIN:VCALENDAR
VERSION:2.0
PRODID:-//tapahtumainfo.fi//NONSGML Ateneum-klubi: Mikko Joensuu//EN
METHOD:REQUEST
BEGIN:VEVENT
UID:20260420T031543-426541393-tapahtumainfo.fi
DTSTAMP:20260420T031543
DTSTART:20260505T020000Z
DTEND:20260505T020000Z
LOCATION:Ateneumin taidemuseo
SUMMARY:Ateneum-klubi: Mikko Joensuu
DESCRIPTION:<html><head></head><body>Mikko Joensuu on hehkutettu laulaja-lauluntekijÃ¤, jonka tuorein albumi Long Ark ilmestyi seitsemÃ¤n vuoden tauon jÃ¤lkeen tammikuussa 2024. Kymmenen kappaletta sisÃ¤ltÃ¤vÃ¤ 82-minuuttinen albumi sisÃ¤ltÃ¤Ã¤ jousisoittimilla ja puhaltimilla orkestroitua kamarifolkia. Pianolla ja kitaralla itseÃ¤Ã¤n sÃ¤estÃ¤vÃ¤ Joensuu on mieltynyt eeppiseen ilmaisuun ja albumi onkin kerÃ¤nnyt ylistystÃ¤ ulkomaita myÃ¶den. <br><br>âLong Ark -teema tarkoittaa minulle kahta asiaa; ihmisen tietoisuuden isoa kaarta tai venettÃ¤, jossa jokainen ihminen voi pienen hetken olla tietoisena olentona ja kÃ¤ydÃ¤ lÃ¤pi yhteyttÃ¤ ja merkitystÃ¤ ja omaa olemassaoloansa.â â Mikko Joensuu<br><br>Mikko Joensuun 2015-2017 vuosina ilmestynyt albumitrilogia Amen oli ainutlaatuinen kokonaistaideteos, joka poiki tekijÃ¤lleen mm. Teosto-palkinnon. Artisti tunnetaan myÃ¶s Joensuu 1685 -yhtyeen laulajana.<br><br>Ovet aukeavat kello 17.00.   <br><br>Ostathan lippusi verkkosivuilta: https://ateneum.fi/musiikki/ateneum-klubi-mikko-joensuu/ <br /><br />  Visit event in our website: <a href='https://tapahtumainfo.fi/tapahtuma/2026/05/ateneum-klubi-mikko-joensuu/441940'>Tapahtumainfo.fi</a></body></html>
END:VEVENT
END:VCALENDAR
