BEGIN:VCALENDAR
VERSION:2.0
PRODID:-//tapahtumainfo.fi//NONSGML Aulagalleriassa: Performansseja puille//EN
METHOD:REQUEST
BEGIN:VEVENT
UID:20260421T124916-96220606-tapahtumainfo.fi
DTSTAMP:20260421T124916
DTSTART:20260416T020000Z
DTEND:20260530T020000Z
LOCATION:Suomen maatalousmuseo Sarka
SUMMARY:Aulagalleriassa: Performansseja puille
DESCRIPTION:<html><head></head><body>Performansseja puille -valokuvanÃ¤yttely pohtii ihmisen roolia ja sen ajallista kerrostumaa maisemassa valokuvan ja tanssin keinoin. NÃ¤yttelyn kuvia on kuvattu Varsinais-Suomen varhaisina aamuina kesÃ¤llÃ¤ 2025, kuunnellen puiden hiljaista kuoroa.<br><br>NÃ¤yttely on tehty Jenni Laaksosen ja Nea Vuorisen yhteistyÃ¶nÃ¤. Laaksonen ja Vuorinen ovat tehneet valokuvapohjaista yhteistyÃ¶tÃ¤ vuodesta 2023. He kuvaavat tanssillisia valokuvia vahvassa taiteellisessa vuoropuhelussa siten, ettÃ¤ kumpikin taiteilija tuo oman osaamisensa yhteisen projektin Ã¤Ã¤relle. <br><br>Jenni Laaksonen on valokuvataiteilija, jonka teoksissa ovat lÃ¤snÃ¤ ajallisuuden ja ruumiillisen liikkeen teemat. HÃ¤n hyÃ¶dyntÃ¤Ã¤ kuvissaan usein tanssin liikekieltÃ¤. Laaksonen asuu ja tyÃ¶skentelee Loimaalla.<br><br>Nea Vuorinen on loimaalaislÃ¤htÃ¶inen tanssitaiteilija, joka on tyÃ¶skennellyt monien eri koreografien ja opettajien kanssa erilaisissa teoksissa ja projekteissa. TÃ¤llÃ¤ hetkellÃ¤ hÃ¤n tyÃ¶skentelee Tanssiteatteri ERI:ssÃ¤ tanssijana. HÃ¤n on nykytanssikentÃ¤n kasvatteja, mutta omaa myÃ¶s vahvan baletti- sekÃ¤ jazztekniikan. Vuorinen asuu ja tyÃ¶skentelee Turussa.<br><br>Jenni Laaksonen ja Nea Vuorinen: Performansseja puille on esillÃ¤ Aulagalleriassa 16.4.â30.5.2026.<br>NÃ¤yttelyyn voi tutustua ilmaiseksi. <br /><br />  Visit event in our website: <a href='https://tapahtumainfo.fi/tapahtuma/2026/04/aulagalleriassa-performansseja-puille/441941'>Tapahtumainfo.fi</a></body></html>
END:VEVENT
END:VCALENDAR
