BEGIN:VCALENDAR
VERSION:2.0
PRODID:-//tapahtumainfo.fi//NONSGML Avoimet ovet Ruotsin Majalla//EN
METHOD:REQUEST
BEGIN:VEVENT
UID:20260420T015754-1526240170-tapahtumainfo.fi
DTSTAMP:20260420T015754
DTSTART:20260517T020000Z
DTEND:20260517T020000Z
LOCATION:Lottamuseo
SUMMARY:Avoimet ovet Ruotsin Majalla
DESCRIPTION:<html><head></head><body>Avoimet ovet Ruotsin Majalla perjantaina 15.5. klo 14-16 ja sunnuntaina 17.5. klo 11-15.<br><br>Tule tutustumaan ruotsalaisten lottien lahjoittamaan lepokotiin, joka on ollut lottien kÃ¤ytÃ¶ssÃ¤ jo 1940-luvulta. Ruotsin Majaan pÃ¤Ã¤see tutustumaan vain harvoin. Ruotsin Maja sijaitsee Rantatien varrella ja Lottamuseon lÃ¤heisyydessÃ¤.<br><br>Sunnuntaina Ruotsin Majalla on mahdollisuus myÃ¶s maistella ja vertailla kahvin korviketta ja vastiketta. Korvikkeessa on mukana vielÃ¤ kahvia, mutta vastikkeessa sitÃ¤ ei ole ollenkaan. Tule maistamaan!<br><br><br><br>Lottamuseon nÃ¤yttelyihin on koko juhlaviikon ajan vapaa pÃ¤Ã¤sy (12.-17.5.2026).<br><br>Tervetuloa juhlimaan kanssamme 30-vuotiasta Lottamuseosta. Koko ohjelman lÃ¶ydÃ¤t verkkosivuiltamme osoitteesta https://lottasvard.fi/lottamuseon-juhlaviikon-ohjelma/. <br /><br />  Visit event in our website: <a href='https://tapahtumainfo.fi/tapahtuma/2026/05/avoimet-ovet-ruotsin-majalla/441942'>Tapahtumainfo.fi</a></body></html>
END:VEVENT
END:VCALENDAR
