BEGIN:VCALENDAR
VERSION:2.0
PRODID:-//tapahtumainfo.fi//NONSGML Walborgsmatiné//EN
METHOD:REQUEST
BEGIN:VEVENT
UID:20260422T203122-324676139-tapahtumainfo.fi
DTSTAMP:20260422T203122
DTSTART:20260430T160000Z
DTEND:20260430T020000Z
LOCATION:Vikingasalen, Nylands Natio
SUMMARY:Walborgsmatiné
DESCRIPTION:<html><head></head><body><p>  Välkommen på Lyrans och Akademens traditionsenliga Walborgsmatiné i   Nylands Nations Vikingasal! Kom och höj stämningen inför   Valborgsmässoafton tillsammans med oss genom högklassig vårmusik i   lättsam tappning.</p><p>  Vi börjar sjunga klockan fyra och slutar så att alla hinner ta sig ner   för att se när Havis Amanda får sin mössa. Evenemanget riktar sig till   hela familjen.<br><br>BILJETTPRISER<br>Normal biljett: 16.80€<br>Rabatterad   biljett: 11.20€ (gäller för studerande och barn 7-17år)<br>Dörrarna   öppnas kl. 15:00, konserten börjar 16:00.<br></p><p>  –</p><p>  Tervetuloa Lyranin ja Akademenin perinteiselle Wappumatineaan Nylands   Nationin Viikinkisalissa! Tule nostattamaan vappuaaton tunnelmaa meidän   kanssa kevyen musiikin parissa.</p><p>  Laulu kajahtaa neljältä, ja tilaisuus päättyy juuri sopivasti, jotta   paikalta ehtii katsomaan Havis Amandan lakitusta. Tapahtuma sopii koko   perheelle.</p> <br /><br />  Visit event in our website: <a href='https://tapahtumainfo.fi/tapahtuma/2026/04/walborgsmatin/441943'>Tapahtumainfo.fi</a></body></html>
END:VEVENT
END:VCALENDAR
