BEGIN:VCALENDAR
VERSION:2.0
PRODID:-//tapahtumainfo.fi//NONSGML Kulttuuritalon naulakkomaksu 4,50€/hlö: KULT Live: INGINMAA//EN
METHOD:REQUEST
BEGIN:VEVENT
UID:20260420T031216-1579474582-tapahtumainfo.fi
DTSTAMP:20260420T031216
DTSTART:20260905T190000Z
DTEND:20260905T020000Z
LOCATION:KULT naulakkomaksu
SUMMARY:Kulttuuritalon naulakkomaksu 4,50€/hlö: KULT Live: INGINMAA
DESCRIPTION:<html><head></head><body> <br /><br />  Visit event in our website: <a href='https://tapahtumainfo.fi/tapahtuma/2026/09/kulttuuritalon-naulakkomaksu-4-50-hlo-kult-live-inginmaa/441946'>Tapahtumainfo.fi</a></body></html>
END:VEVENT
END:VCALENDAR
