BEGIN:VCALENDAR
VERSION:2.0
PRODID:-//tapahtumainfo.fi//NONSGML Kulttuuritalon naulakkomaksu 4,50€/hlö: Ismo Leikola - Omasta mielestä//EN
METHOD:REQUEST
BEGIN:VEVENT
UID:20260420T031048-1270810790-tapahtumainfo.fi
DTSTAMP:20260420T031048
DTSTART:20260905T190000Z
DTEND:20260905T020000Z
LOCATION:Kulttuuritalon naulakkomaksut
SUMMARY:Kulttuuritalon naulakkomaksu 4,50€/hlö: Ismo Leikola - Omasta mielestä
DESCRIPTION:<html><head></head><body> <br /><br />  Visit event in our website: <a href='https://tapahtumainfo.fi/tapahtuma/2026/09/kulttuuritalon-naulakkomaksu-4-50-hlo-ismo-leikola-omasta-mielesta/441947'>Tapahtumainfo.fi</a></body></html>
END:VEVENT
END:VCALENDAR
