BEGIN:VCALENDAR
VERSION:2.0
PRODID:-//tapahtumainfo.fi//NONSGML Savoy-teatteri vaatesäilytys TAMMIKUU27//EN
METHOD:REQUEST
BEGIN:VEVENT
UID:20260422T234327-1921002437-tapahtumainfo.fi
DTSTAMP:20260422T234327
DTSTART:20270131T235900Z
DTEND:20270131T020000Z
LOCATION:Savoy-teatteri
SUMMARY:Savoy-teatteri vaatesäilytys TAMMIKUU27
DESCRIPTION:<html><head></head><body>www.savoyteatteri.fi <br /><br />  Visit event in our website: <a href='https://tapahtumainfo.fi/tapahtuma/2027/01/savoy-teatteri-vaatesailytys-tammikuu27/441959'>Tapahtumainfo.fi</a></body></html>
END:VEVENT
END:VCALENDAR
