BEGIN:VCALENDAR
VERSION:2.0
PRODID:-//tapahtumainfo.fi//NONSGML Savoy-teatteri vaatesäilytys HELMIKUU27//EN
METHOD:REQUEST
BEGIN:VEVENT
UID:20260422T204231-984547711-tapahtumainfo.fi
DTSTAMP:20260422T204231
DTSTART:20270228T235900Z
DTEND:20270228T020000Z
LOCATION:Savoy-teatteri
SUMMARY:Savoy-teatteri vaatesäilytys HELMIKUU27
DESCRIPTION:<html><head></head><body>www.savoyteatteri.fi <br /><br />  Visit event in our website: <a href='https://tapahtumainfo.fi/tapahtuma/2027/02/savoy-teatteri-vaatesailytys-helmikuu27/441960'>Tapahtumainfo.fi</a></body></html>
END:VEVENT
END:VCALENDAR
