BEGIN:VCALENDAR
VERSION:2.0
PRODID:-//tapahtumainfo.fi//NONSGML Savoy-teatteri vaatesäilytys MAALISKUU27//EN
METHOD:REQUEST
BEGIN:VEVENT
UID:20260421T072256-1056447926-tapahtumainfo.fi
DTSTAMP:20260421T072256
DTSTART:20270331T235900Z
DTEND:20270331T020000Z
LOCATION:Savoy-teatteri
SUMMARY:Savoy-teatteri vaatesäilytys MAALISKUU27
DESCRIPTION:<html><head></head><body>www.savoyteatteri.fi <br /><br />  Visit event in our website: <a href='https://tapahtumainfo.fi/tapahtuma/2027/03/savoy-teatteri-vaatesailytys-maaliskuu27/441961'>Tapahtumainfo.fi</a></body></html>
END:VEVENT
END:VCALENDAR
