BEGIN:VCALENDAR
VERSION:2.0
PRODID:-//tapahtumainfo.fi//NONSGML Savoy-teatteri vaatesäilytys HUHTIKUU27//EN
METHOD:REQUEST
BEGIN:VEVENT
UID:20260421T054847-650482982-tapahtumainfo.fi
DTSTAMP:20260421T054847
DTSTART:20270430T235900Z
DTEND:20270430T020000Z
LOCATION:Savoy-teatteri
SUMMARY:Savoy-teatteri vaatesäilytys HUHTIKUU27
DESCRIPTION:<html><head></head><body>www.savoyteatteri.fi <br /><br />  Visit event in our website: <a href='https://tapahtumainfo.fi/tapahtuma/2027/04/savoy-teatteri-vaatesailytys-huhtikuu27/441962'>Tapahtumainfo.fi</a></body></html>
END:VEVENT
END:VCALENDAR
