BEGIN:VCALENDAR
VERSION:2.0
PRODID:-//tapahtumainfo.fi//NONSGML Savoy-teatteri vaatesäilytys TOUKOKUU27//EN
METHOD:REQUEST
BEGIN:VEVENT
UID:20260421T054706-484126380-tapahtumainfo.fi
DTSTAMP:20260421T054706
DTSTART:20270531T235900Z
DTEND:20270531T020000Z
LOCATION:Savoy-teatteri
SUMMARY:Savoy-teatteri vaatesäilytys TOUKOKUU27
DESCRIPTION:<html><head></head><body>www.savoyteatteri.fi <br /><br />  Visit event in our website: <a href='https://tapahtumainfo.fi/tapahtuma/2027/05/savoy-teatteri-vaatesailytys-toukokuu27/441963'>Tapahtumainfo.fi</a></body></html>
END:VEVENT
END:VCALENDAR
