BEGIN:VCALENDAR
VERSION:2.0
PRODID:-//tapahtumainfo.fi//NONSGML Simaisa vappupuhallus//EN
METHOD:REQUEST
BEGIN:VEVENT
UID:20260420T022652-1806446295-tapahtumainfo.fi
DTSTAMP:20260420T022652
DTSTART:20260430T180000Z
DTEND:20260430T020000Z
LOCATION:Kaukametsän sali, Koskikatu 2-4
SUMMARY:Simaisa vappupuhallus
DESCRIPTION:<html><head></head><body>Simaisa vappupuhallus to 30.4.2026 klo 18.00 Kaukametsän sali, Kajaani<br>Kesto 2 h (sis. väliajan)<br><br>Liput:<br>15 € / peruslippu<br>10 € / lapset, opisk, koul, eläk, tyött, varusm.<br>Hinnat sis. palvelumaksut<br>--------------------<br>Soittamassa orkesterit: Kajaanin Puhallinorkesteri, Puolikuu ja Brilliant!<br>Johtaa Riikka Pieviläinen ja Ari Tamminen.<br>Laulusolistina Sanna Kinnunen.<br>--------------------<br>LIPUNMYYNTI:<br>Kajaani Info (osoitteessa Pohjolankatu 13) kts. maksuvälineet ja aukioloajat: <a href="https://www.kajaani.fi/info">https://www.kajaani.fi/info</a><br>Varaukset hoitaa Lippupiste, puh. 0600 900 900 (2€/alk.min + mpm/pvm). Jonotuksesta peritään normaali puhelumaksu oman liittymäsopimuksen mukaisesti.<br>Varatut liput on lunastettava Kajaani Infosta tai Lippupisteen toimipaikoista 14 päivän kuluessa varauksesta.<br>Tilaisuuteen ei ole erikseen ovimyyntiä, vaan liput ovat myynnissä verkossa tilaisuuden alkuun asti niin kauan kuin lippuja riittää.<br>Lippuja myyvät myös Suomen muut Lippupisteen myyntipisteet ja Lippupisteen verkkokauppa osoitteessa <a href="www.lippu.fi">www.lippu.fi</a><br>----------------------<br>Kaukametsän salissa HUOMIO !<br><br>Pyörätuolipaikat sijaitsevat rivien 1-6 molemmissa päädyissä. Näin ollen saattajapaikat otetaan heti ko. pyörätuolipaikan läheisyydestä.<br><br>Konsertin täyttyessä loput myymättä jääneet pyörätuolipaikat myydään irtotuoleina (näkyvät vapaina myynnissä).<br><br>Ravintola on avoinna väliajallisissa konserteissa tunti ennen konserttia sekä väliajalla. Konserttien väliaikatarjoiluista vastaa Peera Hotel Kajanus. Väliaikatarjoilut voi tilata ennakkoon <a href="https://www.hotelkajanus.fi/kaukametsa-valiaikatarjoilut/" target="_blank">lomakkeella.</a> <br /><br />  Visit event in our website: <a href='https://tapahtumainfo.fi/tapahtuma/2026/04/simaisa-vappupuhallus/441964'>Tapahtumainfo.fi</a></body></html>
END:VEVENT
END:VCALENDAR
