BEGIN:VCALENDAR
VERSION:2.0
PRODID:-//tapahtumainfo.fi//NONSGML WÖYH! - WOOPPERA II//EN
METHOD:REQUEST
BEGIN:VEVENT
UID:20260419T233512-1644238258-tapahtumainfo.fi
DTSTAMP:20260419T233512
DTSTART:20260923T190000Z
DTEND:20260923T020000Z
LOCATION:Louhisali, Espoon kulttuurikeskus
SUMMARY:WÖYH! - WOOPPERA II
DESCRIPTION:<html><head></head><body> <br /><br />  Visit event in our website: <a href='https://tapahtumainfo.fi/tapahtuma/2026/09/woyh-wooppera-ii/441965'>Tapahtumainfo.fi</a></body></html>
END:VEVENT
END:VCALENDAR
