BEGIN:VCALENDAR
VERSION:2.0
PRODID:-//tapahtumainfo.fi//NONSGML Heinähattu, Vilttitossu ja suuri pamaus//EN
METHOD:REQUEST
BEGIN:VEVENT
UID:20260420T063432-1443787415-tapahtumainfo.fi
DTSTAMP:20260420T063432
DTSTART:20261024T150000Z
DTEND:20261024T020000Z
LOCATION:Louhisali, Espoon kulttuurikeskus
SUMMARY:Heinähattu, Vilttitossu ja suuri pamaus
DESCRIPTION:<html><head></head><body> <br /><br />  Visit event in our website: <a href='https://tapahtumainfo.fi/tapahtuma/2026/10/heinahattu-vilttitossu-ja-suuri-pamaus/441966'>Tapahtumainfo.fi</a></body></html>
END:VEVENT
END:VCALENDAR
