BEGIN:VCALENDAR
VERSION:2.0
PRODID:-//tapahtumainfo.fi//NONSGML Mimmit & luonnonsuojelun supersankarit//EN
METHOD:REQUEST
BEGIN:VEVENT
UID:20260422T131944-350338182-tapahtumainfo.fi
DTSTAMP:20260422T131944
DTSTART:20261115T150000Z
DTEND:20261115T020000Z
LOCATION:Louhisali, Espoon kulttuurikeskus
SUMMARY:Mimmit & luonnonsuojelun supersankarit
DESCRIPTION:<html><head></head><body> <br /><br />  Visit event in our website: <a href='https://tapahtumainfo.fi/tapahtuma/2026/11/mimmit-luonnonsuojelun-supersankarit/441968'>Tapahtumainfo.fi</a></body></html>
END:VEVENT
END:VCALENDAR
