BEGIN:VCALENDAR
VERSION:2.0
PRODID:-//tapahtumainfo.fi//NONSGML Keiju & D1 DANI (S//EN
METHOD:REQUEST
BEGIN:VEVENT
UID:20260422T131036-1885548967-tapahtumainfo.fi
DTSTAMP:20260422T131036
DTSTART:20261121T190000Z
DTEND:20261121T020000Z
LOCATION:Louhisali, Espoon kulttuurikeskus
SUMMARY:Keiju & D1 DANI (S
DESCRIPTION:<html><head></head><body> <br /><br />  Visit event in our website: <a href='https://tapahtumainfo.fi/tapahtuma/2026/11/keiju-d1-dani-s/441969'>Tapahtumainfo.fi</a></body></html>
END:VEVENT
END:VCALENDAR
